BEGIN:VCALENDAR
VERSION:2.0
CALSCALE:GREGORIAN
PRODID:adamgibbons/ics
METHOD:PUBLISH
X-PUBLISHED-TTL:PT1H
BEGIN:VEVENT
UID:1229786@events.aptaliko.gr
SUMMARY:Αγάπες\,έρωτες και βάσανα στο Λαικό και Ρεμπέτικο Τραγούδι στο Μέρμ
	ηγκα στη Νίκαια
DTSTAMP:20260422T161411Z
DTSTART:20200214T200000Z
DTEND:20200214T200000Z
DESCRIPTION:Ο Έρωτας κι ο Θάνατος ίδιο σπαθί κρατούνε... Ο Ηλίας Πετρόπουλο
	ς στη\nΡεμπετολογία του μάς λέει πως η συντριπτική πλειοψηφία του Ρεμπέτικ
	ου Τραγουδιού\nτραγουδά τον έρωτα και τα βάσανά του! Ένεκα της ημέρας των 
	ερωτευμένων \,υμνούμε\nτον Έρωτα και τα βασανάκια του με τη σχηματάρα της 
	παρασκευιάτικης παρέας \, τη\nΝτένια Κουρούση και τους δεξιοτέχνες του είδ
	ους Νώε\nΖαφειρίδη(μπουζούκι\,τραγούδι) Ράνια Γκικοπούλου (κιθάρα) Κωνσταν
	τίνο Στουραίτη\n(κοντραμπασο) Καφεοινοποτειον "Ο ΜΕΡΜΗΓΚΑΣ" Π. Τσαλδάρη 11
	5\, Νίκαια τηλέφωνο:\n2111842216
URL:https://events.aptaliko.gr/event/agapeserwtes-kai-basana-sto-laiko-kai-
	rempetiko-tragoydi-sto-mermhgka-sth-nikaia-247
LOCATION:Καφεοινοποτειον "Ο ΜΕΡΜΗΓΚΑΣ" - Π. Τσαλδάρη 115\, Νίκαια 184 50\, 
	Ελλάδα
STATUS:CONFIRMED
CATEGORIES:
X-ALT-DESC;FMTTYPE=text/html:Ο Έρωτας κι ο Θάνατος ίδιο σπαθί κρατούνε...<b
	r>Ο Ηλίας Πετρόπουλος στη Ρεμπετολογία του μάς λέει πως η συντριπτική πλει
	οψηφία του Ρεμπέτικου Τραγουδιού τραγουδά τον έρωτα και τα βάσανά του! <br
	>Ένεκα της ημέρας  των ερωτευμένων ,υμνούμε τον Έρωτα και τα βασανάκια του
	   με τη σχηματάρα της παρασκευιάτικης παρέας , τη Ντένια Κουρούση και του
	ς δεξιοτέχνες του είδους Νώε Ζαφειρίδη(μπουζούκι,τραγούδι)<br>Ράνια Γκικοπ
	ούλου (κιθάρα)<br>Κωνσταντίνο Στουραίτη (κοντραμπασο)  <br><br>Καφεοινοποτ
	ειον "Ο ΜΕΡΜΗΓΚΑΣ"<br>Π. Τσαλδάρη 115, Νίκαια<br>τηλέφωνο: 2111842216
BEGIN:VALARM
ACTION:DISPLAY
DESCRIPTION:Αγάπες,έρωτες και βάσανα στο Λαικό και Ρεμπέτικο Τραγούδι στο Μ
	έρμηγκα στη Νίκαια
TRIGGER:-PT1H
END:VALARM
END:VEVENT
END:VCALENDAR
