BEGIN:VCALENDAR
VERSION:2.0
CALSCALE:GREGORIAN
PRODID:adamgibbons/ics
METHOD:PUBLISH
X-PUBLISHED-TTL:PT1H
BEGIN:VEVENT
UID:1184661@events.aptaliko.gr
SUMMARY:BANDALAIKA στο ΠΕΡΑΝ το καφέ αμάν της πόλης
DTSTAMP:20260419T221803Z
DTSTART:20201017T170000Z
DTEND:20201017T170000Z
DESCRIPTION:\nΔερβενιώτη\, Χ. Νικολόπουλου κ.ά. θα αναβιώσουν σε ένα τρίωρο
	 πρόγραμμα με\n“ανεβασμένη” διάθεση.\nΗ “Bandalaika” αποτελείται από τους 
	μουσικούς:\nΔημήτρης Ρέππας\, Μπουζούκι - Φωνή\nΜαρία Τσάμη\, Φωνή\nΘοδωρή
	ς Ξηντάρης\, Μπουζούκι - Φωνή\nΑντώνης Ξηντάρης\, Κιθάρα – Φωνή\nΘανάσης Σ
	οφράς\, Κοντραμπάσο - Φωνή\nΣτράτος Σαμιώτης\, Κρουστά\nΑλέξανδρος Καμπουρ
	άκης\, Ακορντεόν\nΓιάννης Γκαρδιακός\, Ηλεκτρική κιθάρα – Φωνή - επιμέλεια
	 προγράμματος\n\n\nΣας περιμένουμε για μια μουσική ιστορική αναδρομή!\nείσ
	οδος 7 ευρώ\nελάχιστη κατανάλωση σε τραπέζι 15 ευρώ\n\nΠΕΡΑΝ το καφέ αμάν 
	της πόλης [https://www.facebook.com/Perankafeaman]  \nΛεωφ. Δεκελείας 20\,
	 Νέα Χαλκηδόνα 143 43\nΤηλ.: 210-25.33.896    
URL:https://events.aptaliko.gr/event/bandalaika-sto-peran-to-kafe-aman-ths-
	polhs-194
LOCATION:Περαν Πολίτικη Κουζίνα - Λεωφ. Δεκελείας 20\, Νέα Χαλκηδόνα 143 43
	\, Ελλάδα
STATUS:CONFIRMED
CATEGORIES:
X-ALT-DESC;FMTTYPE=text/html:<br>Δερβενιώτη, Χ. Νικολόπουλου κ.ά. θα αναβιώ
	σουν σε ένα τρίωρο πρόγραμμα με “ανεβασμένη” διάθεση.<br>Η “Bandalaika” απ
	οτελείται από τους μουσικούς:<br>Δημήτρης Ρέππας, Μπουζούκι - Φωνή<br>Μαρί
	α Τσάμη, Φωνή<br>Θοδωρής Ξηντάρης, Μπουζούκι - Φωνή<br>Αντώνης Ξηντάρης, Κ
	ιθάρα – Φωνή<br>Θανάσης Σοφράς, Κοντραμπάσο - Φωνή<br>Στράτος Σαμιώτης, Κρ
	ουστά<br>Αλέξανδρος Καμπουράκης, Ακορντεόν<br>Γιάννης Γκαρδιακός, Ηλεκτρικ
	ή κιθάρα – Φωνή - επιμέλεια προγράμματος<br><br><br>Σας περιμένουμε για μι
	α μουσική ιστορική αναδρομή!<br>είσοδος 7 ευρώ<br>ελάχιστη κατανάλωση σε τ
	ραπέζι 15 ευρώ<br><br><a href="https://www.facebook.com/Perankafeaman">ΠΕΡ
	ΑΝ το καφέ αμάν της πόλης</a>&nbsp;&nbsp;<br>Λεωφ. Δεκελείας 20, Νέα Χαλκη
	δόνα 143 43<br>Τηλ.: 210-25.33.896&nbsp;&nbsp;&nbsp;&nbsp;
BEGIN:VALARM
ACTION:DISPLAY
DESCRIPTION:BANDALAIKA στο ΠΕΡΑΝ το καφέ αμάν της πόλης
TRIGGER:-PT1H
END:VALARM
END:VEVENT
END:VCALENDAR
