BEGIN:VCALENDAR
VERSION:2.0
CALSCALE:GREGORIAN
PRODID:adamgibbons/ics
METHOD:PUBLISH
X-PUBLISHED-TTL:PT1H
BEGIN:VEVENT
UID:1184704@events.aptaliko.gr
SUMMARY: Βεργοπουλος - Μηταρακης\, Πέμπτες @ ΑΡΓΩ
DTSTAMP:20260419T183557Z
DTSTART:20210617T173000Z
DTEND:20210617T173000Z
DESCRIPTION:Φώτης Βεργόπουλος και Δημήτρης Μηταράκης \n \n\n\nΗ Αργώ σας υπ
	οδέχεται στην αυλή της με ανανεωμένη κουζίνα\, μικρούς μεζέδες\,\nκρεατικά
	 αλλά και θαλασσινά χωρίς ελάχιστη κατανάλωση!\n\nΗ ζεστή και φιλική ατμόσ
	φαιρα της "Αργώ" εναρμονίζεται απόλυτα με τις ελληνικές\nρίζες. Στόχο έχου
	ν να σας φιλοξενήσουν σε ένα περιβάλλον που υπόσχεται να σας\nμαγέψει με χ
	ρώματα\, γεύσεις\, ρεμπέτικες και λαϊκές ρότες !\n\nΣε αντίθεση με ό\,τι έ
	χουμε συνηθίσει\, το περιβάλλον διακρίνεται από την απουσία\nκάθε είδους υ
	περβολής\, αφού αιχμαλωτίζεται σε έναν απόλυτα προσεγμένο χώρο με\nσκοπό ν
	α υποδεχθεί ζεστά τους καλεσμένους του.\n\nΣας προσκαλούμε να διασκεδάσετε
	 μαζί μας.\n \nΡεμπετάδικο Η ΑΡΓΩ\nΚαρκαβίτσα 16\, 121 34\, Περιστέρι\nΤηλ
	. Κρατήσεων: 210 57 17 049
URL:https://events.aptaliko.gr/event/bergopoylos-mhtarakhs-pemptes-argw-192
LOCATION:Αργώ (Ρεμπετάδικο-Μεζεδοπωλείο) - Καρκαβίτσα 16\, Περιστέρι 121 34
	\, Ελλάδα
STATUS:CONFIRMED
CATEGORIES:
X-ALT-DESC;FMTTYPE=text/html:Φώτης Βεργόπουλος και Δημήτρης Μηταράκης&nbsp;
	<br>&nbsp;<br><span><span><br><br>Η Αργώ σας υποδέχεται στην αυλή της με α
	νανεωμένη κουζίνα, μικρούς μεζέδες, κρεατικά αλλά και θαλασσινά χωρίς ελάχ
	ιστη κατανάλωση!<br><br>Η ζεστή και φιλική ατμόσφαιρα της "Αργώ" εναρμονίζ
	εται απόλυτα με τις ελληνικές ρίζες. Στόχο έχουν να σας φιλοξενήσουν σε έν
	α περιβάλλον που υπόσχεται να σας μαγέψει με χρώματα, γεύσεις, ρεμπέτικες 
	και λαϊκές ρότες !<br><br>Σε αντίθεση με ό,τι έχουμε συνηθίσει, το περιβάλ
	λον διακρίνεται από την απουσία κάθε είδους υπερβολής, αφού αιχμαλωτίζεται
	 σε έναν απόλυτα προσεγμένο χώρο με σκοπό να υποδεχθεί ζεστά τους καλεσμέν
	ους του.<br><br>Σας προσκαλούμε να διασκεδάσετε μαζί μας.<br>&nbsp;<br>Ρεμ
	πετάδικο Η ΑΡΓΩ<br>Καρκαβίτσα 16, 121 34, Περιστέρι<br>Τηλ. Κρατήσεων: <sp
	an><span>210 57 17 049</span></span> </span></span>
BEGIN:VALARM
ACTION:DISPLAY
DESCRIPTION: Βεργοπουλος - Μηταρακης, Πέμπτες @ ΑΡΓΩ
TRIGGER:-PT1H
END:VALARM
END:VEVENT
END:VCALENDAR
