BEGIN:VCALENDAR
VERSION:2.0
CALSCALE:GREGORIAN
PRODID:adamgibbons/ics
METHOD:PUBLISH
X-PUBLISHED-TTL:PT1H
BEGIN:VEVENT
UID:1220935@events.aptaliko.gr
SUMMARY:Φαράντος - Χριστοπουλος στο Ηλιοτρόπιο
DTSTAMP:20260422T010557Z
DTSTART:20220521T183000Z
DTEND:20220521T183000Z
URL:https://events.aptaliko.gr/event/farantos-xristopoylos-sto-hliotropio-1
	56
LOCATION:Ηλιοτρόπιο - Μελενίκου 3\, Αθήνα 104 47\, Ελλάδα
STATUS:CONFIRMED
CATEGORIES:
BEGIN:VALARM
ACTION:DISPLAY
DESCRIPTION:Φαράντος - Χριστοπουλος στο Ηλιοτρόπιο
TRIGGER:-PT1H
END:VALARM
END:VEVENT
END:VCALENDAR
