BEGIN:VCALENDAR
VERSION:2.0
CALSCALE:GREGORIAN
PRODID:adamgibbons/ics
METHOD:PUBLISH
X-PUBLISHED-TTL:PT1H
BEGIN:VEVENT
UID:111655@events.aptaliko.gr
SUMMARY:Γιώργος Μεραντζας στην Μπουάτ Απενεμιά
DTSTAMP:20260424T125116Z
DTSTART:20221120T183000Z
DTEND:20221120T183000Z
DESCRIPTION:Γιωργος Μεραντζας Μανώλης Παππος - Μπουζούκι Dasho Kurti - Ακορ
	ντεον Δημήτρης\nΣιντος - Πιανο\, Λαούτο Δέσποινα Σπανού - Τσελο
URL:https://events.aptaliko.gr/event/giwrgos-merantzas-sthn-mpoyat-apenemia
	-21
LOCATION:μπουάτ απανεμιά - Θόλου 4\, Αθήνα 105 56\, Ελλάδα
STATUS:CONFIRMED
CATEGORIES:
X-ALT-DESC;FMTTYPE=text/html:Γιωργος Μεραντζας<br><br>Μανώλης Παππος - Μπου
	ζούκι<br>Dasho Kurti - Ακορντεον<br>Δημήτρης Σιντος - Πιανο, Λαούτο<br>Δέσ
	ποινα Σπανού - Τσελο
BEGIN:VALARM
ACTION:DISPLAY
DESCRIPTION:Γιώργος Μεραντζας στην Μπουάτ Απενεμιά
TRIGGER:-PT1H
END:VALARM
END:VEVENT
END:VCALENDAR
