BEGIN:VCALENDAR
VERSION:2.0
CALSCALE:GREGORIAN
PRODID:adamgibbons/ics
METHOD:PUBLISH
X-PUBLISHED-TTL:PT1H
BEGIN:VEVENT
UID:1210923@events.aptaliko.gr
SUMMARY:Ιφιγενεια Ιωάννου & Ειβαλα στις 1002Νυχτες
DTSTAMP:20260423T093420Z
DTSTART:20221124T200000Z
DTEND:20221124T200000Z
DESCRIPTION:«ΙΦΙΓΕΝΕΙΑ ΙΩΑΝΝΟΥ & EIVALA» ΠΕΜΠΤΗ 24 ΝΟΕΜΒΡΙΟΥ & 1 ΔΕΚΕΜΒΡΙΟΥ
	 2022 | 22:00 ||\n€5 «eivala» (έϊ-βαλά) Ιφιγένεια Ιωάννου & Eivala στις 10
	02 Νύχτες! Το μουσικό\nσχήμα «Ιφιγένεια Ιωάννου & Eivala» επισκέπτονται το
	 ιστορικό «1002 Νύχτες» στου\nΨυρρή για 2 εμφανίσεις\, στις 24 Νοεμβρίου κ
	αι 1η Δεκεμβρίου. Φέρνουν μαζί τους\nμουσικές και τραγούδια που «μυρίζουν»
	 Σμύρνη & Κωνσταντινούπολη του 19ου- 20ου\nαιώνα και υπόσχονται ένα παραδο
	σιακό Σμυρναίικο γλέντι στη καρδιά της Αθήνας.\nΙφιγένεια Ιωάννου: τραγούδ
	ι\, κανονάκι Θανάσης Βαλάσκας: τραγούδι\, κρουστά\nΓιάννης Πούλιος: βιολί 
	Κώστας Τσαρούχης: ούτι Πέτρος Παπαγεωργίου: κρουστά\nΘοδωρής Μαραϊδώνης: κ
	οντραμπάσο Νίκος Χριστογιαννόπουλος: ήχος Έναρξη 22:00\nΕίσοδος €5 Ένα φρέ
	σκο μουσικό σχήμα Οι «Eivala» είναι ένα μουσικό συγκρότημα με\nρεπερτόριο 
	ως επί το πλείστον εμπνευσμένο από τη Σμύρνη του 19ου-20ου αιώνα.\nΓνωστά 
	και άγνωστα τραγούδια\, κρυμμένες ιστορίες για έρωτες\, καημούς\, μεράκια\
	,\nγια τη ζωή και τον θάνατο. Οι «Eivala» ζωντανεύουν ιστορίες εκείνης της
	 εποχής\nμέσα από τη μουσική\, αναπολούν για την ειρηνική συνύπαρξη λαών κ
	αι πολιτισμών\nκαι επαναδιαπραγματεύονται τις ανθρώπινες σχέσεις με όχημα 
	τη μουσική τους με\nτον δικό τους ιδιαίτερο τρόπο. Προσπαθούν να φέρουν στ
	ην επιφάνεια όλο τον\nχαμένο αισθησιασμό\, τη δυναμική\, αλλά και την ιστο
	ρική μνήμη μιας μεγάλης λαϊκής\nμουσικής σχολής του τότε. Τέλος\, επιχειρο
	ύν να αναδείξουν τον πλούτο της\nμουσικής παράδοσης της Μικράς Ασίας και τ
	ης Σμύρνης και να σας ταξιδέψουν σε\nκαιρούς αλλοτινούς\, όμορφους και νοσ
	ταλγικούς. Plus Info: Η λέξη «eivala»\n(έϊ-βαλά) είναι πιθανότατα αραβικής
	 προέλευσης από το eyvallah που σε ελεύθερη\nμετάφραση σημαίνει «στο καλό\
	, ώρα καλή» ή «ευχαριστώ»\, ή από το ivi-allah που\nσημαίνει «καλά Θεέ μου
	». Πέρασε στην τουρκική γλώσσα και χρησιμοποιήθηκε φυσικά\nαπό τους Έλληνε
	ς της Μικράς Ασίας και της Σμύρνης. Είναι μια θαυμαστική λέξη που\nδείχνει
	 ότι αυτός που το λέει περνάει καλά ή είναι πολύ χαρούμενος για κάτι.\n100
	2 Νύχτες Μουσική Σκηνή - Restaurant-Bar Καραϊσκάκη 10\, Ψυρρή 105 54 Αθήνα
	 T\n(+30) 210 33 17 293 W www.1002nyxtes.gr E info@1002nyxtes.gr E\nxilies
	2nyxtes@yahoo.gr https://www.facebook.com/1002nyxtesGR/\nhttps://www.1002n
	yxtes.gr/index.php/GR/booking-gr (e-tickets)
URL:https://events.aptaliko.gr/event/ifigeneia-iwannoy-and-eibala-stis-1002
	nyxtes-154
LOCATION:1002 Νύχτες - Καραϊσκάκη 10\, Αθήνα 105 54\, Ελλάδα
STATUS:CONFIRMED
CATEGORIES:
X-ALT-DESC;FMTTYPE=text/html:«ΙΦΙΓΕΝΕΙΑ ΙΩΑΝΝΟΥ & EIVALA»<br>ΠΕΜΠΤΗ 24 ΝΟΕΜ
	ΒΡΙΟΥ & 1 ΔΕΚΕΜΒΡΙΟΥ 2022 | 22:00 || €5<br><br>«eivala» (έϊ-βαλά)<br>Ιφιγέ
	νεια Ιωάννου & Eivala στις 1002 Νύχτες!<br><br>Το μουσικό σχήμα «Ιφιγένεια
	 Ιωάννου & Eivala» επισκέπτονται το ιστορικό «1002 Νύχτες» στου Ψυρρή για 
	2 εμφανίσεις, στις 24 Νοεμβρίου και 1η Δεκεμβρίου. Φέρνουν μαζί τους μουσι
	κές και τραγούδια που «μυρίζουν» Σμύρνη & Κωνσταντινούπολη του 19ου- 20ου 
	αιώνα και υπόσχονται ένα παραδοσιακό Σμυρναίικο γλέντι στη καρδιά της Αθήν
	ας.<br><br>Ιφιγένεια Ιωάννου: τραγούδι, κανονάκι<br>Θανάσης Βαλάσκας: τραγ
	ούδι, κρουστά<br>Γιάννης Πούλιος: βιολί<br>Κώστας Τσαρούχης: ούτι<br>Πέτρο
	ς Παπαγεωργίου: κρουστά<br>Θοδωρής Μαραϊδώνης: κοντραμπάσο<br>Νίκος Χριστο
	γιαννόπουλος: ήχος<br><br>Έναρξη 22:00<br>Είσοδος €5<br><br>Ένα φρέσκο μου
	σικό σχήμα <br><br>Οι «Eivala» είναι ένα μουσικό συγκρότημα με ρεπερτόριο 
	ως επί το πλείστον εμπνευσμένο από τη Σμύρνη του 19ου-20ου  αιώνα. Γνωστά 
	και άγνωστα τραγούδια, κρυμμένες ιστορίες για έρωτες, καημούς, μεράκια, γι
	α τη ζωή και τον  θάνατο. Οι «Eivala» ζωντανεύουν ιστορίες εκείνης της επο
	χής μέσα από τη μουσική, αναπολούν για την ειρηνική συνύπαρξη λαών και πολ
	ιτισμών και επαναδιαπραγματεύονται τις ανθρώπινες σχέσεις με όχημα τη μουσ
	ική τους με τον δικό τους ιδιαίτερο τρόπο.<br><br>Προσπαθούν να φέρουν στη
	ν επιφάνεια όλο τον χαμένο αισθησιασμό, τη δυναμική, αλλά και την ιστορική
	 μνήμη μιας μεγάλης λαϊκής μουσικής σχολής του τότε. Τέλος, επιχειρούν να 
	αναδείξουν τον πλούτο της μουσικής παράδοσης της Μικράς Ασίας και της Σμύρ
	νης και να σας ταξιδέψουν σε καιρούς αλλοτινούς, όμορφους και νοσταλγικούς
	.<br><br>Plus Info: Η λέξη «eivala» (έϊ-βαλά) είναι πιθανότατα αραβικής πρ
	οέλευσης από το eyvallah που σε ελεύθερη μετάφραση  σημαίνει «στο καλό, ώρ
	α καλή» ή «ευχαριστώ», ή από το ivi-allah που σημαίνει «καλά Θεέ μου». Πέρ
	ασε στην τουρκική γλώσσα και χρησιμοποιήθηκε φυσικά από τους Έλληνες της Μ
	ικράς Ασίας και της Σμύρνης. Είναι μια θαυμαστική λέξη που δείχνει ότι αυτ
	ός που το λέει περνάει καλά ή είναι πολύ χαρούμενος για κάτι.<br><br>1002 
	Νύχτες Μουσική Σκηνή - Restaurant-Bar<br>Καραϊσκάκη 10, Ψυρρή 105 54 Αθήνα
	<br><br>T (+30) 210 33 17 293<br>W www.1002nyxtes.gr<br>E info@1002nyxtes.
	gr<br>E xilies2nyxtes@yahoo.gr<br>https://www.facebook.com/1002nyxtesGR/<b
	r>https://www.1002nyxtes.gr/index.php/GR/booking-gr (e-tickets)
BEGIN:VALARM
ACTION:DISPLAY
DESCRIPTION:Ιφιγενεια Ιωάννου & Ειβαλα στις 1002Νυχτες
TRIGGER:-PT1H
END:VALARM
END:VEVENT
END:VCALENDAR
