BEGIN:VCALENDAR
VERSION:2.0
CALSCALE:GREGORIAN
PRODID:adamgibbons/ics
METHOD:PUBLISH
X-PUBLISHED-TTL:PT1H
BEGIN:VEVENT
UID:160415@events.aptaliko.gr
SUMMARY:Κακλαμάνης\, Τσιρίδου\, Πρωτόπαππας @ Μέρμηγκας
DTSTAMP:20260421T150408Z
DTSTART:20211203T190000Z
DTEND:20211203T190000Z
DESCRIPTION:Απόψε\,Παρασκευή 3/12\,βραδάκι μετά τις 9\,ανταμώνουμε στο Μέρμ
	ηγκα με την καλύτερη\nπαρέα! Κατερίνα Τσιρίδου μπαγλαμάς\,φωνή Νίκος Πρωτό
	παπας κιθάρα\, φωνή Τάσος\nΚακλαμάνης μπουζούκι φωνή! Με Μερακλίδικα μεζεκ
	λίκια του Μέρμηγκα \,ρακί\,καλό\nκρασί και παγωμένες μπύρες! Κοντά στο στα
	θμό ΜΕΤΡΟ ΝΙΚΑΙΑ Είσοδος 3 ευρώ\n/ελεύθερη κατανάλωση
URL:https://events.aptaliko.gr/event/kaklamanhs-tsiridoy-prwtopappas-mermhg
	kas-31
LOCATION:Π. Τσαλδάρη 115 - Νίκαια 184 50\, Ελλάδα
STATUS:CONFIRMED
CATEGORIES:
X-ALT-DESC;FMTTYPE=text/html:<br><br>Απόψε,Παρασκευή 3/12,βραδάκι μετά τις 
	9,ανταμώνουμε στο Μέρμηγκα με την καλύτερη παρέα!<br><br>Κατερίνα Τσιρίδου
	 μπαγλαμάς,φωνή<br>Νίκος Πρωτόπαπας κιθάρα, φωνή <br>Τάσος Κακλαμάνης μπου
	ζούκι φωνή!<br><br>Με Μερακλίδικα μεζεκλίκια του Μέρμηγκα ,ρακί,καλό κρασί
	 και παγωμένες μπύρες!<br><br>Κοντά στο σταθμό ΜΕΤΡΟ ΝΙΚΑΙΑ<br><br>Είσοδος
	 3 ευρώ /ελεύθερη κατανάλωση
BEGIN:VALARM
ACTION:DISPLAY
DESCRIPTION:Κακλαμάνης, Τσιρίδου, Πρωτόπαππας @ Μέρμηγκας
TRIGGER:-PT1H
END:VALARM
END:VEVENT
END:VCALENDAR
