BEGIN:VCALENDAR
VERSION:2.0
CALSCALE:GREGORIAN
PRODID:adamgibbons/ics
METHOD:PUBLISH
X-PUBLISHED-TTL:PT1H
BEGIN:VEVENT
UID:1230734@events.aptaliko.gr
SUMMARY:Κεντρής\, Αθανασίου\, Σμαριανάκης στο  Galata Gazi
DTSTAMP:20260424T062922Z
DTSTART:20200602T183000Z
DTEND:20200602T183000Z
DESCRIPTION:Γλαύκος Σμαριανάκης βιολί τραγούδι Θεοδώρα Αθανασίου κιθάρα τρα
	γούδι Αλέξανδρος\nΚεντρής μπουζουκι τραγούδι Είσοδος 4 Ευρώ Galata Gazi Τρ
	ιπτολέμου 8\, Αθήνα 118\n54\, Ελλάδα τηλ. 2103410222
URL:https://events.aptaliko.gr/event/kentrhs-a8anasioy-smarianakhs-sto-gala
	ta-gazi-392
LOCATION:Galata Gazi - Τριπτολέμου 8\, Αθήνα 118 54\, Ελλάδα
STATUS:CONFIRMED
CATEGORIES:
X-ALT-DESC;FMTTYPE=text/html:<br>Γλαύκος Σμαριανάκης βιολί τραγούδι<br>Θεοδ
	ώρα Αθανασίου κιθάρα τραγούδι<br>Αλέξανδρος Κεντρής μπουζουκι τραγούδι  <b
	r>Είσοδος 4 Ευρώ<br><br>Galata Gazi<br>Τριπτολέμου 8, Αθήνα 118 54, Ελλάδα
	 <br>τηλ.  2103410222  
BEGIN:VALARM
ACTION:DISPLAY
DESCRIPTION:Κεντρής, Αθανασίου, Σμαριανάκης στο  Galata Gazi
TRIGGER:-PT1H
END:VALARM
END:VEVENT
END:VCALENDAR
