BEGIN:VCALENDAR
VERSION:2.0
CALSCALE:GREGORIAN
PRODID:adamgibbons/ics
METHOD:PUBLISH
X-PUBLISHED-TTL:PT1H
BEGIN:VEVENT
UID:1202736@events.aptaliko.gr
SUMMARY:Κοντραμπατζήδες Κυριακή μεσημέρι @Αστερίσκος
DTSTAMP:20260422T221436Z
DTSTART:20190421T113000Z
DTEND:20190421T123000Z
DESCRIPTION:Θεμιστοκλή Καρποδίνη - φωνή Μαρία Ψειροπούλου - φωνή Γιάννη Κάτ
	ο - μπουζούκι\nΓιώργο Χρονόπουλο - κιθάρα Γιώργο Βεντουρή - κοντραμπάσο Σπ
	ύρο Μπάλιο - βιολί\nΕίσοδος 5€ Κυριακή μεσημέρι 21/4\, 14:30 Κρατήσεις: 21
	5 215 9799 Αστερίσκος Αγίου\nΔημητρίου 16 Ψυρρή www.asteriskos.net
URL:https://events.aptaliko.gr/event/kontrampatzhdes-kyriakh-meshmeri-aster
	iskos-305
LOCATION:ΑΣΤΕΡΙΣΚΟΣ - Agiou Dimitriou 16\, Athina 105 54\, Greece
STATUS:CONFIRMED
CATEGORIES:
X-ALT-DESC;FMTTYPE=text/html:Θεμιστοκλή Καρποδίνη - φωνή <br>Μαρία Ψειροπού
	λου - φωνή<br>Γιάννη Κάτο - μπουζούκι<br>Γιώργο Χρονόπουλο - κιθάρα<br>Γιώ
	ργο Βεντουρή - κοντραμπάσο<br>Σπύρο Μπάλιο - βιολί<br><br>Είσοδος 5€<br>Κυ
	ριακή μεσημέρι 21/4, 14:30<br>Κρατήσεις: 215 215 9799<br><br>Αστερίσκος <b
	r>Αγίου Δημητρίου 16<br>Ψυρρή<br>www.asteriskos.net
BEGIN:VALARM
ACTION:DISPLAY
DESCRIPTION:Κοντραμπατζήδες Κυριακή μεσημέρι @Αστερίσκος
TRIGGER:-PT1H
END:VALARM
END:VEVENT
END:VCALENDAR
