BEGIN:VCALENDAR
VERSION:2.0
CALSCALE:GREGORIAN
PRODID:adamgibbons/ics
METHOD:PUBLISH
X-PUBLISHED-TTL:PT1H
BEGIN:VEVENT
UID:1210786@events.aptaliko.gr
SUMMARY:Κοτζαμάν  στο Beeraki
DTSTAMP:20260426T023351Z
DTSTART:20220401T180000Z
DTEND:20220401T180000Z
DESCRIPTION:Παρασκευή βράδυ στο BeeRaki μουσική βραδιά με τραγούδια από καφ
	έ αμάν και\nπαραδοσιακούς σκοπούς! Οι Κοτζαμάν Band είναι οι: Χρυσάνθη Μού
	ρτη - κιθάρα\, φωνή\nΣτέλιος Χρυσανθόπουλος - βιολί Κώστας Ζευκιλής - ούτι
	 Μάρω Παναγή - κρουστά\nΤηλέφωνο κρατήσεων: 210 8822322
URL:https://events.aptaliko.gr/event/kotzaman-sto-beeraki-492
LOCATION:BeeRaki - Ψηλορείτη 6\, Αθήνα 104 39\, Ελλάδα
STATUS:CONFIRMED
CATEGORIES:
X-ALT-DESC;FMTTYPE=text/html:Παρασκευή βράδυ στο BeeRaki μουσική βραδιά με 
	τραγούδια από καφέ αμάν και παραδοσιακούς σκοπούς!<br><br>Οι Κοτζαμάν Band
	 είναι οι:<br>Χρυσάνθη Μούρτη - κιθάρα, φωνή<br>Στέλιος Χρυσανθόπουλος - β
	ιολί<br>Κώστας Ζευκιλής - ούτι<br>Μάρω Παναγή - κρουστά<br><br>Τηλέφωνο κρ
	ατήσεων:<br>210 8822322
BEGIN:VALARM
ACTION:DISPLAY
DESCRIPTION:Κοτζαμάν  στο Beeraki
TRIGGER:-PT1H
END:VALARM
END:VEVENT
END:VCALENDAR
