BEGIN:VCALENDAR
VERSION:2.0
CALSCALE:GREGORIAN
PRODID:adamgibbons/ics
METHOD:PUBLISH
X-PUBLISHED-TTL:PT1H
BEGIN:VEVENT
UID:193195@events.aptaliko.gr
SUMMARY:Κρανίδας - Δεικτά - Διαμάντης
DTSTAMP:20260422T172235Z
DTSTART:20220219T200000Z
DTEND:20220219T200000Z
URL:https://events.aptaliko.gr/event/kranidas-deikta-diamanths-37
LOCATION:Καφεοινοποτειον "Ο ΜΕΡΜΗΓΚΑΣ" - Π. Τσαλδάρη 115\, Νίκαια 184 50\, 
	Ελλάδα
STATUS:CONFIRMED
CATEGORIES:
BEGIN:VALARM
ACTION:DISPLAY
DESCRIPTION:Κρανίδας - Δεικτά - Διαμάντης
TRIGGER:-PT1H
END:VALARM
END:VEVENT
END:VCALENDAR
