BEGIN:VCALENDAR
VERSION:2.0
CALSCALE:GREGORIAN
PRODID:adamgibbons/ics
METHOD:PUBLISH
X-PUBLISHED-TTL:PT1H
BEGIN:VEVENT
UID:49535@events.aptaliko.gr
SUMMARY:Κωγιαμαν στην Τυφλόμυγα
DTSTAMP:20260423T121044Z
DTSTART:20221125T190000Z
DTEND:20221125T190000Z
DESCRIPTION:Ενα επετειακό λαιβ γεμάτο ευτράπελα και εκπλήξεις στον αγαπημέν
	ο χώρο των\nΚωΓιαMan. στο τέλος της βραδιάς\, στον προαύλιο χώρο\, θα μοιρ
	αστούν τσουρεκακια\nμε τσάι καθώς και μπαλόνια για τους μικρους μας φίλους
URL:https://events.aptaliko.gr/event/kwgiaman-sthn-tyflomyga-18
LOCATION:Τυφλόμυγα - Καφενείο - Παραμυθίας 22\, Αθήνα 104 35\, Ελλάδα
STATUS:CONFIRMED
CATEGORIES:
X-ALT-DESC;FMTTYPE=text/html:Ενα επετειακό λαιβ γεμάτο ευτράπελα και εκπλήξ
	εις στον αγαπημένο χώρο των ΚωΓιαMan. στο τέλος της βραδιάς, στον προαύλιο
	 χώρο, θα μοιραστούν τσουρεκακια με τσάι καθώς και μπαλόνια για τους μικρο
	υς μας φίλους
BEGIN:VALARM
ACTION:DISPLAY
DESCRIPTION:Κωγιαμαν στην Τυφλόμυγα
TRIGGER:-PT1H
END:VALARM
END:VEVENT
END:VCALENDAR
