BEGIN:VCALENDAR
VERSION:2.0
CALSCALE:GREGORIAN
PRODID:adamgibbons/ics
METHOD:PUBLISH
X-PUBLISHED-TTL:PT1H
BEGIN:VEVENT
UID:1187036@events.aptaliko.gr
SUMMARY:Κυριακή μεσημέρι.. "..να γιατί γυρνώ μες στην Αθήνα.."
DTSTAMP:20260420T195942Z
DTSTART:20230409T113000Z
DTEND:20230409T113000Z
DESCRIPTION:Τις Κυριακές τα μεσημέρια.. περνάμε πολύ πολύ πολύ ωραία!! 🥰 Όλ
	ο γλέντια και\nχαρές!! .. Τραγουδάμε\, χορεύουμε\, αγαπάμε\, μερακλώνουμε\
	, διασκεδάζουμε\nτρωγοπίνοντας! .. - Στο μπουζούκι\, ο Γιάννης Τζάνης - Στ
	ην κιθάρα\, o Πάνος\nΜπαλάφας\, - Την παρέα μας μεγαλώνει και ομορφαίνει η
	 Βασιλική Τσιφτσή στο\nτραγούδι! .. Σας περιμένουμε μετά τις 2:30. .. ☎ Κρ
	ατήσεις στο 2111823723 ή\nστείλτε μήνυμα στη σελίδα μας 📌 Ακακιών 5 & Δροσ
	ιάς στο Νέο Ηράκλειο 👨‍👩‍👦\nΧώρος κατάλληλος και για οικογένειες .. #tomonopat
	i #monopati #monopatiathens\n#live #livemusic #greeklivemusic #palka #kout
	oukia #bouzouki #tavernes\n#mezedopwleia #greekrestaurants #greekmusic #me
	ze #tsipouraki #neoirakleio
URL:https://events.aptaliko.gr/event/kyriakh-meshmeri-na-giati-gyrnw-mes-st
	hn-a8hna-117
LOCATION:Το μονοπάτι - Ακακιών 5 &\, Δροσιάς\, Ηράκλειο 141 22\, Ελλάδα
STATUS:CONFIRMED
CATEGORIES:
X-ALT-DESC;FMTTYPE=text/html:Τις Κυριακές τα μεσημέρια.. περνάμε πολύ πολύ 
	πολύ ωραία!!  🥰 Όλο γλέντια και χαρές!! <br>..<br>Τραγουδάμε, χορεύουμε, α
	γαπάμε, μερακλώνουμε, διασκεδάζουμε τρωγοπίνοντας!<br>..<br>- Στο μπουζούκ
	ι, ο Γιάννης Τζάνης<br>- Στην κιθάρα, o Πάνος Μπαλάφας,<br>- Την παρέα μας
	 μεγαλώνει και ομορφαίνει η Βασιλική Τσιφτσή στο τραγούδι! <br>..<br>Σας π
	εριμένουμε μετά τις 2:30.<br>..<br>☎ Κρατήσεις στο 2111823723 ή στείλτε μή
	νυμα στη σελίδα μας<br>📌 Ακακιών 5 & Δροσιάς στο Νέο Ηράκλειο <br>👨‍👩‍👦 Χώρος 
	κατάλληλος και για οικογένειες<br>..<br>#tomonopati #monopati #monopatiath
	ens #live #livemusic #greeklivemusic #palka #koutoukia #bouzouki #tavernes
	 #mezedopwleia #greekrestaurants #greekmusic #meze #tsipouraki #neoiraklei
	o
BEGIN:VALARM
ACTION:DISPLAY
DESCRIPTION:Κυριακή μεσημέρι.. "..να γιατί γυρνώ μες στην Αθήνα.."
TRIGGER:-PT1H
END:VALARM
END:VEVENT
END:VCALENDAR
