BEGIN:VCALENDAR
VERSION:2.0
CALSCALE:GREGORIAN
PRODID:adamgibbons/ics
METHOD:PUBLISH
X-PUBLISHED-TTL:PT1H
BEGIN:VEVENT
UID:1182136@events.aptaliko.gr
SUMMARY:ΛΑΪΚΗ ΑΠΟΓΕΥΜΑΤΙΝΗ
DTSTAMP:20260421T225424Z
DTSTART:20260425T123000Z
DESCRIPTION:ΛΑΪΚΗ ΑΠΟΓΕΥΜΑΤΙΝΗ\nΔΗΜΗΤΡΗΣ ΚΟΝΤΟΓΙΑΝΝΗΣ - ΘΕΟΔΟΣΙΑ ΣΤΙΓΚΑ - Θ
	ΑΝΑΣΗΣ ΒΑΣΙΛΑΣ\n\nΣάββατο 25 Απριλίου 2026\, ώρα 15.30\n\nΟ Δημήτρης Κοντο
	γιάννης\, από τους πρωταγωνιστές της αναβίωσης του Ρεμπέτικου\,\nμαζί με τ
	ην εξαιρετική τραγουδίστρια Θεοδοσία Στίγκα και σολίστα τον Θανάση\nΒασιλά
	 θα επανέλθουν το Σάββατο 25 Απριλίου το μεσημέρι στις 15.30 - στη σκηνή\n
	του «Πέραν\, του καφέ αμάν της Πόλης».\nΤο ρεμπέτικο τραγούδι μορφοποιήθηκ
	ε\, με την πρώτη συστηματική αποτύπωση του\nστους δίσκους γραμμοφώνου\, στ
	ις αρχές της δεκαετίας του 1930.Αρκετά γρήγορα ο\nΒασίλης Τσιτσάνης με τα 
	τραγούδια του κατάφερε να το κάνει αποδεκτό και αγαπητό\nστα ευρύτερα κοιν
	ωνικά στρωματα.Το Ρεμπέτικο ανέδειξε μεγάλους δημιουργούς και\nερμηνευτές 
	και αφού έκανε μια συναρπαστική διαδρομή\, για 20 και πλέον χρόνια -\nμετά
	 το 1950\, άρχισε να μεταλλάσσεται σε «Λαϊκό»\, με πρωταγωνιστή τον Στέλιο
	\nΚαζαντζίδη.\nΤο λαϊκό κράτησε τα βασικά μελωδικά χαρακτηριστικά του Ρεμπ
	έτικου\, αλλά και τους\nίδιους ρυθμούς\, ξεφεύγοντας όμως από την θεματογρ
	αφία των στίχων που αρχικά\nπεριέγραφαν την ρεμπέτικη ζωή και εν πολλοίς τ
	ην παραβατική συμπεριφορά των\nανθρώπων του περιθωρίου.Έτσι\, στις επόμενε
	ς γενιές παραδόθηκε μια πλούσια\nκαλλιτεχνική κληρονομιά\, που απολαμβάνου
	με πιά χωρίς ανούσιους\nδιαχωρισμούς.Ιδανικός χώρος είναι το «Πέραν Καφέ Α
	μάν»\, ένα φιλόξενο και\nποιοτικό κέντρο\, που με προγράμματα ψυχαγωγίας κ
	αι διασκέδασης έχει ήδη γράψει\nτη δική του ιστορία στις νύχτεςτης Αθήνας.
	\n\nεπιμέλεια δελτίουΓιώργος Κοντογιάννης\n\nείσοδος 5 ευρώ\nκρατήσεις 210
	4444030\nΛ.Δεκελείας 20 Ν.Φιλαδέλφεια\nwww.peran.gr [http://www.peran.gr]\
	n\n\nOrganisé par ΠΕΡΑΝ το καφέ αμάν της πόλης - αυθεντική σελίδα\n[https:
	//www.facebook.com/Perankafeaman]
URL:https://events.aptaliko.gr/event/laikh-apogeymatinh
GEO:38.028408575008;23.733720779419
LOCATION:ΠΕΡΑΝ το καφέ αμάν της πόλης - αυθεντική σελίδα - Λ.Δεκελείας 20  
	Ν.Χαλκηδόνα\, Athènes\, Grèce
STATUS:CONFIRMED
CATEGORIES:
X-ALT-DESC;FMTTYPE=text/html:ΛΑΪΚΗ ΑΠΟΓΕΥΜΑΤΙΝΗ<br>ΔΗΜΗΤΡΗΣ ΚΟΝΤΟΓΙΑΝΝΗΣ - 
	ΘΕΟΔΟΣΙΑ ΣΤΙΓΚΑ - ΘΑΝΑΣΗΣ ΒΑΣΙΛΑΣ<br> <br>Σάββατο  25 Απριλίου  2026, ώρα 
	15.30<br><br>Ο Δημήτρης Κοντογιάννης, από τους πρωταγωνιστές της αναβίωσης
	 του Ρεμπέτικου, μαζί με την εξαιρετική τραγουδίστρια Θεοδοσία Στίγκα και 
	σολίστα τον Θανάση Βασιλά θα επανέλθουν το  Σάββατο 25 Απριλίου το μεσημέρ
	ι στις 15.30 - στη σκηνή του  «Πέραν, του καφέ αμάν της Πόλης».<br>Το ρεμπ
	έτικο τραγούδι μορφοποιήθηκε, με την πρώτη συστηματική αποτύπωση του στους
	 δίσκους γραμμοφώνου, στις αρχές της δεκαετίας του 1930.Αρκετά γρήγορα ο Β
	ασίλης Τσιτσάνης με τα τραγούδια του κατάφερε να το κάνει αποδεκτό και αγα
	πητό στα ευρύτερα κοινωνικά στρωματα.Το Ρεμπέτικο ανέδειξε μεγάλους δημιου
	ργούς και ερμηνευτές και αφού έκανε μια συναρπαστική διαδρομή, για 20 και 
	πλέον χρόνια - μετά το 1950, άρχισε να μεταλλάσσεται σε «Λαϊκό», με πρωταγ
	ωνιστή τον Στέλιο Καζαντζίδη.<br>Το λαϊκό κράτησε τα βασικά μελωδικά χαρακ
	τηριστικά του Ρεμπέτικου, αλλά και τους ίδιους ρυθμούς, ξεφεύγοντας όμως α
	πό την θεματογραφία των στίχων που αρχικά περιέγραφαν την ρεμπέτικη ζωή κα
	ι εν πολλοίς την παραβατική συμπεριφορά των ανθρώπων του περιθωρίου.Έτσι, 
	στις επόμενες γενιές παραδόθηκε μια πλούσια καλλιτεχνική κληρονομιά, που α
	πολαμβάνουμε πιά χωρίς ανούσιους διαχωρισμούς.Ιδανικός χώρος είναι το «Πέρ
	αν Καφέ Αμάν», ένα φιλόξενο και ποιοτικό κέντρο, που με προγράμματα ψυχαγω
	γίας και διασκέδασης έχει ήδη γράψει τη δική του ιστορία στις νύχτεςτης Αθ
	ήνας.<br><br>επιμέλεια δελτίουΓιώργος Κοντογιάννης<br><br>είσοδος 5 ευρώ<b
	r>κρατήσεις 2104444030<br>Λ.Δεκελείας 20 Ν.Φιλαδέλφεια<br><a href="http://
	www.peran.gr" target="_blank">www.peran.gr</a><br><p>Organisé par <a href=
	"https://www.facebook.com/Perankafeaman">ΠΕΡΑΝ το καφέ αμάν της πόλης - αυ
	θεντική σελίδα</a></p>
BEGIN:VALARM
ACTION:DISPLAY
DESCRIPTION:ΛΑΪΚΗ ΑΠΟΓΕΥΜΑΤΙΝΗ
TRIGGER:-PT1H
END:VALARM
END:VEVENT
END:VCALENDAR
