BEGIN:VCALENDAR
VERSION:2.0
CALSCALE:GREGORIAN
PRODID:adamgibbons/ics
METHOD:PUBLISH
X-PUBLISHED-TTL:PT1H
BEGIN:VEVENT
UID:1132624@events.aptaliko.gr
SUMMARY:Μανουσάκης - Παππάς Εντεχνα Κρητικά
DTSTAMP:20260420T120223Z
DTSTART:20220219T183000Z
DTEND:20220219T183000Z
DESCRIPTION:Με ένα κρητικό λαούτο και μία λαϊκή κιθάρα κάνουμε βόλτες σε πα
	λιά και σημερινά\nτραγούδια και σκοπούς της Ελλάδας.
URL:https://events.aptaliko.gr/event/manoysakhs-pappas-entexna-krhtika-178
LOCATION:Ο Τυπογράφος - O Typogragos - Κοδράτου 18\, Αθήνα 104 37\, Ελλάδα
STATUS:CONFIRMED
CATEGORIES:
X-ALT-DESC;FMTTYPE=text/html:Με ένα κρητικό λαούτο και μία λαϊκή κιθάρα κάν
	ουμε βόλτες σε παλιά και σημερινά τραγούδια και σκοπούς της Ελλάδας.
BEGIN:VALARM
ACTION:DISPLAY
DESCRIPTION:Μανουσάκης - Παππάς Εντεχνα Κρητικά
TRIGGER:-PT1H
END:VALARM
END:VEVENT
END:VCALENDAR
