BEGIN:VCALENDAR
VERSION:2.0
CALSCALE:GREGORIAN
PRODID:adamgibbons/ics
METHOD:PUBLISH
X-PUBLISHED-TTL:PT1H
BEGIN:VEVENT
UID:1191662@events.aptaliko.gr
SUMMARY:ΜΠΑΜΠΗΣ ΤΣΕΡΤΟΣ
DTSTAMP:20260419T224427Z
DTSTART:20260425T193000Z
DTEND:20260426T000000Z
DESCRIPTION:ΜΠΑΜΠΗΣ ΤΣΕΡΤΟΣ\n\nΤα Σάββατα 18 & 25 Απριλίου στις 22.30\, ο Μ
	πάμπης Τσέρτος παρουσιάζει στο\n«Πέραν\, το καφέ αμάν της πόλης»\, τα πιο 
	μερακλίδικα παραδοσιακά\, ρεμπέτικα και\nλαϊκά τραγούδια του μεγάλου μουσι
	κού μας πλούτου\, αλλά και νεότερα που αποπνέουν\nτον αέρα παλιών\, όμορφω
	ν εποχών.\nΜαζί του στο τραγούδι οι εξαιρετικές Σταυρούλα Εσαμπαλίδη και Ε
	λεονώρα Ζαχαριά\nκαι οι ιδιαίτεροι συνοδοιπόροι του Κώστας Ζαριδάκης στο μ
	πουζούκι και το\nτραγούδι\, Μιχάλης Δανιάς στο βιολί\, Νίκος Καινούργιος σ
	την κιθάρα και Γιάννης\nΤσέρτος στο πιάνο.\nΕίσοδος 5 ευρώ\nΚρατήσεις 210 
	4444030\nΛ.Δεκελείας 20 Ν. Φιλαδέλφεια\nwww. peran.gr [http://peran.gr]\n\
	n\nOrganisé par ΠΕΡΑΝ το καφέ αμάν της πόλης - αυθεντική σελίδα\n[https://
	www.facebook.com/Perankafeaman]
URL:https://events.aptaliko.gr/event/mpamphs-tsertos-1
GEO:38.028408575008;23.733720779419
LOCATION:ΠΕΡΑΝ το καφέ αμάν της πόλης - αυθεντική σελίδα - Λ.Δεκελείας 20  
	Ν.Χαλκηδόνα\, Athens\, Greece
STATUS:CONFIRMED
CATEGORIES:
X-ALT-DESC;FMTTYPE=text/html:ΜΠΑΜΠΗΣ ΤΣΕΡΤΟΣ<br><br>Τα Σάββατα  18 &amp; 25
	  Απριλίου στις 22.30, ο Μπάμπης Τσέρτος παρουσιάζει στο «Πέραν, το καφέ α
	μάν της πόλης», τα πιο μερακλίδικα παραδοσιακά, ρεμπέτικα και λαϊκά τραγού
	δια του μεγάλου μουσικού μας πλούτου, αλλά και νεότερα που αποπνέουν τον α
	έρα παλιών, όμορφων εποχών.<br>Μαζί του στο τραγούδι οι εξαιρετικές Σταυρο
	ύλα Εσαμπαλίδη και Ελεονώρα Ζαχαριά και οι ιδιαίτεροι συνοδοιπόροι του Κώσ
	τας Ζαριδάκης στο μπουζούκι και το τραγούδι, Μιχάλης Δανιάς στο βιολί, Νίκ
	ος Καινούργιος στην κιθάρα και Γιάννης Τσέρτος στο πιάνο.<br>Είσοδος  5 ευ
	ρώ<br>Κρατήσεις 210 4444030<br>Λ.Δεκελείας 20 Ν. Φιλαδέλφεια<br>www. <a hr
	ef="http://peran.gr" target="_blank">peran.gr</a><br><p>Organisé par <a hr
	ef="https://www.facebook.com/Perankafeaman">ΠΕΡΑΝ το καφέ αμάν της πόλης -
	 αυθεντική σελίδα</a></p>
BEGIN:VALARM
ACTION:DISPLAY
DESCRIPTION:ΜΠΑΜΠΗΣ ΤΣΕΡΤΟΣ
TRIGGER:-PT1H
END:VALARM
END:VEVENT
END:VCALENDAR
