BEGIN:VCALENDAR
VERSION:2.0
CALSCALE:GREGORIAN
PRODID:adamgibbons/ics
METHOD:PUBLISH
X-PUBLISHED-TTL:PT1H
BEGIN:VEVENT
UID:1133291@events.aptaliko.gr
SUMMARY:Παπατραγιάννης - Κρανίδας - Τσεκούρας
DTSTAMP:20260422T154503Z
DTSTART:20220220T180000Z
DTEND:20220220T180000Z
URL:https://events.aptaliko.gr/event/papatragiannhs-kranidas-tsekoyras-153
LOCATION:Εστιατόριο Βόλτα - Ιπποθοντίδων 10\, Αθήνα 118 54\, Ελλάδα
STATUS:CONFIRMED
CATEGORIES:
BEGIN:VALARM
ACTION:DISPLAY
DESCRIPTION:Παπατραγιάννης - Κρανίδας - Τσεκούρας
TRIGGER:-PT1H
END:VALARM
END:VEVENT
END:VCALENDAR
