BEGIN:VCALENDAR
VERSION:2.0
CALSCALE:GREGORIAN
PRODID:adamgibbons/ics
METHOD:PUBLISH
X-PUBLISHED-TTL:PT1H
BEGIN:VEVENT
UID:1139447@events.aptaliko.gr
SUMMARY:Πάππας-Παπαλουκάς στη Λούπα
DTSTAMP:20260419T202330Z
DTSTART:20181018T180000Z
DTEND:20181018T180000Z
DESCRIPTION:Η Λούπα κλείνει 3 χρόνια και το γιορτάζει με ζωντανή μουσική κα
	ι την καλύτερη\nτης διάθεση! Κωστής Παπαλουκάς : κιθάρα\, φωνή Δημήτρης Πά
	ππας : ούτι Λούπα\,\nΕρεχθείου 12 21 5545 0985
URL:https://events.aptaliko.gr/event/pappas-papaloykas-sth-loypa-281
LOCATION:Λούπα - Ερεχθείου 12\, Αθήνα 117 42\, Ελλάδα
STATUS:CONFIRMED
CATEGORIES:
X-ALT-DESC;FMTTYPE=text/html:Η Λούπα κλείνει 3 χρόνια και το γιορτάζει με ζ
	ωντανή μουσική και την καλύτερη της διάθεση!<br>Κωστής Παπαλουκάς : κιθάρα
	, φωνή<br>Δημήτρης Πάππας : ούτι<br><br>Λούπα, Ερεχθείου 12<br>21 5545 098
	5
BEGIN:VALARM
ACTION:DISPLAY
DESCRIPTION:Πάππας-Παπαλουκάς στη Λούπα
TRIGGER:-PT1H
END:VALARM
END:VEVENT
END:VCALENDAR
