BEGIN:VCALENDAR
VERSION:2.0
CALSCALE:GREGORIAN
PRODID:adamgibbons/ics
METHOD:PUBLISH
X-PUBLISHED-TTL:PT1H
BEGIN:VEVENT
UID:1229989@events.aptaliko.gr
SUMMARY:Παραδοσιακό Γλέντι στο Σαν Όνειρο στο Ίλιον
DTSTAMP:20260422T173232Z
DTSTART:20200214T200000Z
DTEND:20200214T200000Z
DESCRIPTION:Ετοιμάσαμε για τις 14 Φεβρουαρίου μία πολύ όμορφη βραδιά με παρ
	αδοσιακά απ'ολη\nτην Ελλάδα(Πελλοπόνησο\,Ηπειρο\,Θεσσαλία\,Μακεδονία) Γλέν
	τι με άρωμα Αποκριάς Δε\nμπορεί να λείπει απ'το μενού και η γίδα βραστή Γι
	α την ορχήστρα μας μία μικρή\nεπιβάρυνση...3€ /ατομο Εγκαιρες κρατήσεις στ
	ο..6932876463 - 2102636651 Σαν\nΟνειρο\, Πάριδος 100\, Ίλιον 13122
URL:https://events.aptaliko.gr/event/paradosiako-glenti-sto-san-oneiro-sto-
	ilion-247
LOCATION:Σαν Ονειρο - Πάριδος 100\, Ίλιον 131 22\, Ελλάδα
STATUS:CONFIRMED
CATEGORIES:
X-ALT-DESC;FMTTYPE=text/html:Ετοιμάσαμε για τις 14 Φεβρουαρίου μία πολύ όμο
	ρφη βραδιά με παραδοσιακά απ'ολη την Ελλάδα(Πελλοπόνησο,Ηπειρο,Θεσσαλία,Μα
	κεδονία)<br>Γλέντι με άρωμα Αποκριάς<br>Δε μπορεί να λείπει απ'το μενού κα
	ι η γίδα βραστή<br>Για την ορχήστρα μας μία μικρή επιβάρυνση...3€ /ατομο<b
	r><br>Εγκαιρες κρατήσεις στο..6932876463 - 2102636651  <br><br>Σαν Ονειρο,
	 Πάριδος 100, Ίλιον 13122
BEGIN:VALARM
ACTION:DISPLAY
DESCRIPTION:Παραδοσιακό Γλέντι στο Σαν Όνειρο στο Ίλιον
TRIGGER:-PT1H
END:VALARM
END:VEVENT
END:VCALENDAR
