BEGIN:VCALENDAR
VERSION:2.0
CALSCALE:GREGORIAN
PRODID:adamgibbons/ics
METHOD:PUBLISH
X-PUBLISHED-TTL:PT1H
BEGIN:VEVENT
UID:1247237@events.aptaliko.gr
SUMMARY: Πασσαλίδης\, Λιβάνιος\,Μέρμηγκα στο Οινοπωλείον στο Ψυρρή
DTSTAMP:20260424T162057Z
DTSTART:20191115T191500Z
DTEND:20191115T191500Z
DESCRIPTION:Φίλιππος Πασσαλίδης\, κιθάρα-τραγούδι\nΧάρης Λιβάνιος\, μπουζού
	κι-τραγούδι\nκαι η Σοφία Μέρμηγκα\, κανονάκι-τραγούδι \n\n\nΟινοπολείον\, 
	Αισχύλου 12 Ωυρρή 10551\n\nτηλ κρατήσεων 21 30081461
URL:https://events.aptaliko.gr/event/passalidhs-libaniosmermhgka-sto-oinopw
	leion-sto-psyrrh-309
LOCATION:Οινοπωλείον - Αισχύλου 12\, Αθήνα 105 51\, Ελλάδα
STATUS:CONFIRMED
CATEGORIES:
X-ALT-DESC;FMTTYPE=text/html:Φίλιππος Πασσαλίδης, κιθάρα-τραγούδι<br>Χάρης 
	Λιβάνιος, μπουζούκι-τραγούδι<br>και η Σοφία Μέρμηγκα, κανονάκι-τραγούδι&nb
	sp;<br><br><br>Οινοπολείον, Αισχύλου 12 Ωυρρή 10551<table> <colgroup><col>
	 </colgroup><tbody><tr>  <td>τηλ κρατήσεων 21 30081461</td> </tr></tbody><
	/table>
BEGIN:VALARM
ACTION:DISPLAY
DESCRIPTION: Πασσαλίδης, Λιβάνιος,Μέρμηγκα στο Οινοπωλείον στο Ψυρρή
TRIGGER:-PT1H
END:VALARM
END:VEVENT
END:VCALENDAR
