BEGIN:VCALENDAR
VERSION:2.0
CALSCALE:GREGORIAN
PRODID:adamgibbons/ics
METHOD:PUBLISH
X-PUBLISHED-TTL:PT1H
BEGIN:VEVENT
UID:1229432@events.aptaliko.gr
SUMMARY: Πλατείες Γεμάτες Τραγούδια - Περού\, Κληματσάκη στον Βιβλιοπότη στ
	α Εξάρχεια
DTSTAMP:20260424T064402Z
DTSTART:20200214T200000Z
DTEND:20200214T200000Z
DESCRIPTION:Ο Γιώργος Περού με την συμμετοχή της νέας ερμηνεύτριας Ζαχαρούλ
	ας Κληματσάκη\nπαρουσιάζει την μουσική παράσταση "Πλατείες Γεμάτες Τραγούδ
	ια".\nΜε αφορμή τον βαθύτερο λειτουργικό ρόλο της «πλατείας» ως ζωντανό χώ
	ρο\nσυγκέντρωσης των ανθρώπων\, η παράσταση επιχειρεί να υπογραμμίσει το κ
	οινό\nαίσθημα με τραγούδια αλλά και μικρές αφηγήσεις και να αναδείξει τους
	 λόγους για\nτους οποίους οι άνθρωποι συναντιούνται\, συνομιλούν και ενίοτ
	ε συγκινούνται και\nτραγουδούν.\nTην Παρασκευή 14 Φεβρουαρίου – ημέρα γιορ
	τής των απανταχού ερωτευμένων και\nερωτόπληκτων στις 22.00 στην στοά του Β
	ιβλιοπότη – ένα καινούριο στέκι στην\nξακουστή γειτονιά των Εξαρχείων.\nΤρ
	αγούδια που αντέχουν στο χρόνο διαλεγμένα ένα προς ένα απο ένα ευρύ φάσμα\
	nδημιουργών\, που εκτείνεται από το ρεμπέτικο και το λαικό τραγούδι\, το ε
	λαφρό\nτραγούδι καθώς και σύγχρονες δημιουργίες. Μελωδίες των Αττίκ\, Κώστ
	α Γιαννίδη\,\nΣογιούλ θα μπλέκουν θεματικά με τραγούδια των Τσιτσάνη\, Άκη
	 Πάνου αλλα και με\nτων Μίκη Θεοδωράκη\, Δήμου Μούτση\, των Beatles και το
	υ Leonard Cohen.\nΔοσμένα πάντοτε με τον δικό τους τρόπο\, λιτά και ανθρώπ
	ινα ξετύλιγουν το κουβάρι\nτων τραγουδιών και τη μυθολογία που αυτά κουβαλ
	ούν\, δίνοντας έμφαση στην\nβαθύτερη λειτουργία του τραγουδιού μέχρι να φτ
	άσει στα χείλη και τις καρδιές των\nανθρώπων και να τραγουδήσουμε όλοι σαν
	 μια παρέα.\nΟ Γιώργος Περού είναι νέος τραγουδοποιός και συνθέτης. Έχει κ
	υκλοφορήσει ένα\nalbum με δικά του τραγούδια με τίτλο «Δύο Κόσμοι» και έχε
	ι γράψει μουσική και\nτραγούδια για διάφορες θεατρικές παραστάσεις (Οι 12 
	Ένορκοι\, Εκτός Ύλης κ.α)\nΥπογράφει και 2 διασκευές ως ερμηνευτής και παρ
	αγωγός - το «Απόψε Φίλα με» του\nΜανωλη Χιωτη\nhttps://youtu.be/_sDeP6RB9Y
	k\n[https://youtu.be/_sDeP6RB9Yk?fbclid=IwAR2801QX7-tTwn9T_TnKS_LLcYtvUi_k
	N334oyraRXAaW3kbtTiPeM3kBbY]\nκαι το «Χθες το Βράδυ» του Κώστα Γιαννίδη\nh
	ttps://youtu.be/sfXNojlOOUc\n[https://youtu.be/sfXNojlOOUc?fbclid=IwAR2zfF
	oYYTFq-1uYhUF8VsXAPrm-cqzDLPMWma-Y0T1O4Oo4Wh5Ov4PwZOU]\nΗ Ζαχαρούλα Κληματ
	σάκη γεννήθηκε και μεγάλωσε στα Χανιά. Έχει σπουδάσει\nυποκριτική στην\nΑν
	ωτέρα Δραματική Σχολή Βεάκη. Παράλληλα\, έχει σπουδάσει πιάνο και σαξόφωνο
	 ενώ\nέχει παρακολουθήσει μαθήματα φωνητικής κλασσικού και σύγχρονου τραγο
	υδιού.\nΈχει παρουσιάσει δικές της μουσικές παραστάσεις σε διάφορους χώρου
	ς της Αθήνας\n(Γυάλινο Μουσικό\nΘέατρο\, Τριανόν\, Ίλιον Plus\, Passport\,
	 Σφίγγα\, Hollywood Stage\, Ιανό κλπ) καθώς\nκαι σε φεστιβάλ στην\nυπόλοιπ
	η Ελλάδα. Η πρώτη της δισκογραφική δουλειά κυκλοφόρησε μέσα από την\nAntel
	ma Music του Στάθη Δρογώση. Πρόσφατα κυκλοφόρησε την διασκευή “Δως του Νάν
	ι\n– νάνι” των Γεράσιμου Κλουβάτου-Χαράλαμπου Βασιλειάδη.\nhttps://youtu.b
	e/pHYFra8m3w0\n[https://l.facebook.com/l.php?u=https%3A%2F%2Fyoutu.be%2FpH
	YFra8m3w0%3Ffbclid%3DIwAR3ttx1zcWdqwXqkPU0ayNsOhWchMeC6uGjB1fBNkS_7XmR1JxI
	sebthz1k&h=AT3eZ3Q28CDkRFZETksFXpKwzYkbCOdu0wyHyOhC3u76w1Q1HniHSfH_s1ruscJ
	kY6Du4ZKVnh5FIZ4g6-1ytGZ-wJ_o9vJXW83LCN3kAYSvnRf6UuxBKof0NTQ-iPMzi3M]\n\n\
	nὉ Βιβλιοπότης\, Χαρ. Τρικούπη 14 Αθήνα (εντός της στοάς). \nΤηλέφωνο κρατ
	ήσεων 21 3008 2678\nΕίσοδος 2\,5 ευρώ  
URL:https://events.aptaliko.gr/event/plateies-gemates-tragoydia-peroy-klhma
	tsakh-ston-bibliopoth-sta-e3arxeia-246
LOCATION:Ο Βιβλιοπότης - Χαρ. Τρικούπη 14\, Αθήνα 106 79\, Ελλάδα
STATUS:CONFIRMED
CATEGORIES:
X-ALT-DESC;FMTTYPE=text/html:Ο Γιώργος Περού με την συμμετοχή της νέας ερμη
	νεύτριας Ζαχαρούλας Κληματσάκη παρουσιάζει την μουσική παράσταση "Πλατείες
	 Γεμάτες Τραγούδια".<br>Με αφορμή τον βαθύτερο λειτουργικό ρόλο της «πλατε
	ίας» ως ζωντανό χώρο συγκέντρωσης των ανθρώπων, η παράσταση επιχειρεί να υ
	πογραμμίσει το κοινό αίσθημα με τραγούδια αλλά και μικρές αφηγήσεις και να
	 αναδείξει τους λόγους για τους οποίους οι άνθρωποι συναντιούνται, συνομιλ
	ούν και ενίοτε συγκινούνται και τραγουδούν.<br>Tην Παρασκευή 14 Φεβρουαρίο
	υ – ημέρα γιορτής των απανταχού ερωτευμένων και ερωτόπληκτων στις 22.00 στ
	ην στοά του  Βιβλιοπότη – ένα καινούριο στέκι στην ξακουστή γειτονιά των Ε
	ξαρχείων.<br>Τραγούδια που αντέχουν στο χρόνο διαλεγμένα ένα προς ένα απο 
	ένα ευρύ φάσμα δημιουργών, που εκτείνεται από το ρεμπέτικο και το λαικό τρ
	αγούδι, το ελαφρό τραγούδι καθώς και σύγχρονες δημιουργίες. Μελωδίες των Α
	ττίκ, Κώστα Γιαννίδη, Σογιούλ θα μπλέκουν θεματικά με τραγούδια των Τσιτσά
	νη, Άκη Πάνου αλλα και με των Μίκη Θεοδωράκη, Δήμου Μούτση, των Beatles κα
	ι του Leonard Cohen.<br>Δοσμένα πάντοτε με τον δικό τους τρόπο, λιτά και α
	νθρώπινα ξετύλιγουν το κουβάρι των τραγουδιών και τη μυθολογία που αυτά κο
	υβαλούν, δίνοντας έμφαση στην βαθύτερη λειτουργία του τραγουδιού μέχρι να 
	φτάσει στα χείλη και τις καρδιές των ανθρώπων και να τραγουδήσουμε όλοι σα
	ν μια παρέα.<br>Ο Γιώργος Περού είναι νέος τραγουδοποιός και συνθέτης. Έχε
	ι κυκλοφορήσει ένα album με δικά του τραγούδια με τίτλο «Δύο Κόσμοι» και έ
	χει γράψει μουσική και τραγούδια για διάφορες θεατρικές παραστάσεις (Οι 12
	 Ένορκοι, Εκτός Ύλης κ.α)<br>Υπογράφει και 2 διασκευές ως ερμηνευτής και π
	αραγωγός - το «Απόψε Φίλα με» του Μανωλη Χιωτη<br><a href="https://youtu.b
	e/_sDeP6RB9Yk?fbclid=IwAR2801QX7-tTwn9T_TnKS_LLcYtvUi_kN334oyraRXAaW3kbtTi
	PeM3kBbY">https://youtu.be/_sDeP6RB9Yk</a><br>και το «Χθες το Βράδυ» του Κ
	ώστα Γιαννίδη<br><a href="https://youtu.be/sfXNojlOOUc?fbclid=IwAR2zfFoYYT
	Fq-1uYhUF8VsXAPrm-cqzDLPMWma-Y0T1O4Oo4Wh5Ov4PwZOU" id="ow3560" __is_owner=
	"true">https://youtu.be/sfXNojlOOUc</a><br> Η Ζαχαρούλα Κληματσάκη γεννήθη
	κε και μεγάλωσε στα Χανιά. Έχει σπουδάσει υποκριτική στην<br>Ανωτέρα Δραμα
	τική Σχολή Βεάκη. Παράλληλα, έχει σπουδάσει πιάνο και σαξόφωνο ενώ έχει πα
	ρακολουθήσει μαθήματα φωνητικής κλασσικού και σύγχρονου τραγουδιού.<br>Έχε
	ι παρουσιάσει δικές της μουσικές παραστάσεις σε διάφορους χώρους της Αθήνα
	ς (Γυάλινο Μουσικό<br>Θέατρο, Τριανόν, Ίλιον Plus, Passport, Σφίγγα, Holly
	wood Stage, Ιανό κλπ) καθώς και σε φεστιβάλ στην<br>υπόλοιπη Ελλάδα. Η πρώ
	τη της δισκογραφική δουλειά κυκλοφόρησε μέσα από την Antelma Music του Στά
	θη Δρογώση. Πρόσφατα κυκλοφόρησε την διασκευή “Δως του Νάνι – νάνι” των Γε
	ράσιμου Κλουβάτου-Χαράλαμπου Βασιλειάδη.<br><a href="https://l.facebook.co
	m/l.php?u=https%3A%2F%2Fyoutu.be%2FpHYFra8m3w0%3Ffbclid%3DIwAR3ttx1zcWdqwX
	qkPU0ayNsOhWchMeC6uGjB1fBNkS_7XmR1JxIsebthz1k&amp;h=AT3eZ3Q28CDkRFZETksFXp
	KwzYkbCOdu0wyHyOhC3u76w1Q1HniHSfH_s1ruscJkY6Du4ZKVnh5FIZ4g6-1ytGZ-wJ_o9vJX
	W83LCN3kAYSvnRf6UuxBKof0NTQ-iPMzi3M" id="ow3556" __is_owner="true">https:/
	/youtu.be/pHYFra8m3w0</a><br><br><br>Ὁ Βιβλιοπότης, Χαρ. Τρικούπη 14 Αθήνα
	 (εντός της στοάς).&nbsp;<br>Τηλέφωνο κρατήσεων 21 3008 2678<br>Είσοδος 2,
	5 ευρώ&nbsp;&nbsp;
BEGIN:VALARM
ACTION:DISPLAY
DESCRIPTION: Πλατείες Γεμάτες Τραγούδια - Περού, Κληματσάκη στον Βιβλιοπότη
	 στα Εξάρχεια
TRIGGER:-PT1H
END:VALARM
END:VEVENT
END:VCALENDAR
