BEGIN:VCALENDAR
VERSION:2.0
CALSCALE:GREGORIAN
PRODID:adamgibbons/ics
METHOD:PUBLISH
X-PUBLISHED-TTL:PT1H
BEGIN:VEVENT
UID:1185794@events.aptaliko.gr
SUMMARY:Ψαρολάμπης - Κατσικιώτης - Λαγουδάκης στο Άλικο
DTSTAMP:20260425T104311Z
DTSTART:20220523T183000Z
DTEND:20220523T183000Z
DESCRIPTION:Ο Λάμπης Ξυλούρης μας ταξιδεύει με το ούτι σε κρητικά και ταμπα
	χανιώτικα\nτραγούδια. Μαζί του οι: Παναγιώτης Κατσικιώτης (Τσίκο): κρουστά
	 και Λαγουδάκης\nΜανώλης: κρητική λύρα – τραγούδι. Είσοδος 5 ευρώ
URL:https://events.aptaliko.gr/event/psarolamphs-katsikiwths-lagoydakhs-sto
	-aliko-149
LOCATION:ΑΛΙΚΟ - Τριπτολέμου 8\, Αθήνα 118 54\, Ελλάδα
STATUS:CONFIRMED
CATEGORIES:
X-ALT-DESC;FMTTYPE=text/html:Ο Λάμπης Ξυλούρης μας ταξιδεύει με το ούτι σε 
	κρητικά και ταμπαχανιώτικα τραγούδια. Μαζί του οι: Παναγιώτης Κατσικιώτης 
	(Τσίκο): κρουστά και Λαγουδάκης Μανώλης: κρητική λύρα – τραγούδι.<br>Είσοδ
	ος 5 ευρώ
BEGIN:VALARM
ACTION:DISPLAY
DESCRIPTION:Ψαρολάμπης - Κατσικιώτης - Λαγουδάκης στο Άλικο
TRIGGER:-PT1H
END:VALARM
END:VEVENT
END:VCALENDAR
