BEGIN:VCALENDAR
VERSION:2.0
CALSCALE:GREGORIAN
PRODID:adamgibbons/ics
METHOD:PUBLISH
X-PUBLISHED-TTL:PT1H
BEGIN:VEVENT
UID:1245075@events.aptaliko.gr
SUMMARY:Ρεμπετιέν Παρασκευές στο Οινοπωλείο στου Ψυρρή
DTSTAMP:20260426T003748Z
DTSTART:20131004T180000Z
DTEND:20131004T180000Z
DESCRIPTION:με καινουρια διάθεση κ' κόντρα στην καταθλιψη των αγαπητων καιρ
	ών μας\,\nσυνεχίζουμε σε ρομαντικά μοτίβα και βαρεις ρεμπετο-αναστεναγμους
	!ίβαα! Φώτης\nμπουζούκι τραγουδι Κωστης κιθαρα τραγουδι Αυγερινή ακορντεόν
	 τραγουδι Γιάννης\nβιολί Τηλ.2130081461
URL:https://events.aptaliko.gr/event/rempetien-paraskeyes-sto-oinopwleio-st
	oy-psyrrh-120
LOCATION:"Οινοπωλείον" - Αισχύλου 12\, Ψυρρή
STATUS:CONFIRMED
CATEGORIES:
X-ALT-DESC;FMTTYPE=text/html:με καινουρια διάθεση κ' κόντρα στην καταθλιψη 
	των αγαπητων καιρών μας, συνεχίζουμε σε ρομαντικά μοτίβα και βαρεις ρεμπετ
	ο-αναστεναγμους!ίβαα!<br>Φώτης μπουζούκι τραγουδι<br>Κωστης κιθαρα τραγουδ
	ι<br>Αυγερινή ακορντεόν τραγουδι<br>Γιάννης βιολί<br><br>Τηλ.2130081461
BEGIN:VALARM
ACTION:DISPLAY
DESCRIPTION:Ρεμπετιέν Παρασκευές στο Οινοπωλείο στου Ψυρρή
TRIGGER:-PT1H
END:VALARM
END:VEVENT
END:VCALENDAR
