BEGIN:VCALENDAR
VERSION:2.0
CALSCALE:GREGORIAN
PRODID:adamgibbons/ics
METHOD:PUBLISH
X-PUBLISHED-TTL:PT1H
BEGIN:VEVENT
UID:1198853@events.aptaliko.gr
SUMMARY:Ρεμπέτικα στο Προβάδικο στα Πετράλωνα 
DTSTAMP:20260420T230844Z
DTSTART:20180928T180000Z
DTEND:20180928T205000Z
DESCRIPTION:Μια ιδιαίτερη βραδιά στο Προβάδικο. Συγκινητική και καλοτάξιδh 
	θα πούμε!!! Μην\nτην χάσετε! Σας περιμένουμε να πούμε ωραία τραγούδια με τ
	ους αγαπημένους\nΔημήτρη\, Κοσμά και Θοδωρή! Tηλέφωνο: 21 1182 1085
URL:https://events.aptaliko.gr/event/rempetika-sto-probadiko-sta-petralwna-
	302
LOCATION:ΠΡΟΒΑΔΙΚΟ ΚΟΙΝΣΕΠ - Τριών Ιεραρχών 167\, Αθήνα 118 52\, Ελλάδα
STATUS:CONFIRMED
CATEGORIES:
X-ALT-DESC;FMTTYPE=text/html:Μια ιδιαίτερη βραδιά στο Προβάδικο. Συγκινητικ
	ή και καλοτάξιδh θα πούμε!!!<br>Μην την χάσετε! <br>Σας περιμένουμε να πού
	με ωραία τραγούδια με τους αγαπημένους Δημήτρη, Κοσμά και Θοδωρή!<br><br>T
	ηλέφωνο: 21 1182 1085
BEGIN:VALARM
ACTION:DISPLAY
DESCRIPTION:Ρεμπέτικα στο Προβάδικο στα Πετράλωνα 
TRIGGER:-PT1H
END:VALARM
END:VEVENT
END:VCALENDAR
