BEGIN:VCALENDAR
VERSION:2.0
CALSCALE:GREGORIAN
PRODID:adamgibbons/ics
METHOD:PUBLISH
X-PUBLISHED-TTL:PT1H
BEGIN:VEVENT
UID:173@events.aptaliko.gr
SUMMARY:Ρεμπέτικο γλέντι στην Αργώ
DTSTAMP:20260424T192123Z
DTSTART:20260213T220000Z
DTEND:20260213T230000Z
DESCRIPTION:Μπουζούκι\, βιολί\, κιθάρα & ακορντεόν στήνουν γλέντι στο Περισ
	τέρι και μας\nταξιδεύουν σε άλλες εποχές… Βασίλης Σκούτας (μπουζούκι/φωνή)
	 Χαρούλα Τσαλπαρά\n(ακορντεόν\, μπαγλαμάς/φωνή)Δημήτρης Μηταράκης (κιθάρα/
	φωνή)Γιάννης Ζαριάς\n(βιολί/φωνή)
URL:https://events.aptaliko.gr/event/rempetiko-glenti-sthn-argw-2
LOCATION:Καρκαβίτσα 16 - Peristéri
STATUS:CONFIRMED
CATEGORIES:
X-ALT-DESC;FMTTYPE=text/html:Μπουζούκι, βιολί, κιθάρα & ακορντεόν στήνουν γ
	λέντι στο Περιστέρι και μας ταξιδεύουν σε άλλες εποχές…<br><br>Βασίλης Σκο
	ύτας (μπουζούκι/φωνή) Χαρούλα Τσαλπαρά (ακορντεόν, μπαγλαμάς/φωνή)Δημήτρης
	 Μηταράκης (κιθάρα/φωνή)Γιάννης Ζαριάς (βιολί/φωνή)<br><br>
BEGIN:VALARM
ACTION:DISPLAY
DESCRIPTION:Ρεμπέτικο γλέντι στην Αργώ
TRIGGER:-PT1H
END:VALARM
END:VEVENT
END:VCALENDAR
