BEGIN:VCALENDAR
VERSION:2.0
CALSCALE:GREGORIAN
PRODID:adamgibbons/ics
METHOD:PUBLISH
X-PUBLISHED-TTL:PT1H
BEGIN:VEVENT
UID:1040496@events.aptaliko.gr
SUMMARY:ΡΕΜΠΕΤΙΚΟ ΚΟΥΑΡΤΕΤΟ
DTSTAMP:20260422T072849Z
DTSTART:20260423T183000Z
DESCRIPTION:ΡΕΜΠΕΤΙΚΟ ΚΟΥΑΡΤΕΤΟ\nΑΝΑΤΟΛΗ ΜΑΡΓΙΟΛΑ\, ΣΤΟΥΓΙΟΣ ΘΟΔΩΡΗΣ\, ΦΟΥΝ
	ΤΟΥΚΟΣ ΓΙΩΡΓΟΣ\, ΜΙΧΑΛΗΣ ΔΑΡΜΑΣ\n\nΠέμπτη 23 Απριλίου και ώρα 21.30 υποδεχ
	όμαστε τέσσερεις εξαιρετικούς μουσικούς -\nτην Ανατολή Μαργιόλα στο τραγού
	δι\, τον Θοδωρή Στούγιο στο μπουζούκι και το\nτραγούδι\, τον Γιώργο Φουντο
	ύκο στην κιθάρα και τον Μιχάλη Δάρμα στο μπάσο.\n\nέναρξη 21.30\nΕίσοδος: 
	5\,00 ευρώ/άτομο.\nΚρατήσεις: 210-4444030\n«Πέραν\, το καφέ αμάν της πόλης
	»\nΛεωφόρος Δεκελείας 20\nΝέα Φιλαδέλφεια\nhttp://www.peran.gr [http://www
	.peran.gr]\n\n\nOrganisé par ΠΕΡΑΝ το καφέ αμάν της πόλης - αυθεντική σελί
	δα\n[https://www.facebook.com/Perankafeaman]
URL:https://events.aptaliko.gr/event/rempetiko-koyarteto
GEO:38.028408575008;23.733720779419
LOCATION:ΠΕΡΑΝ το καφέ αμάν της πόλης - αυθεντική σελίδα - Λ.Δεκελείας 20  
	Ν.Χαλκηδόνα\, Athènes\, Grèce
STATUS:CONFIRMED
CATEGORIES:
X-ALT-DESC;FMTTYPE=text/html:ΡΕΜΠΕΤΙΚΟ ΚΟΥΑΡΤΕΤΟ<br>ΑΝΑΤΟΛΗ ΜΑΡΓΙΟΛΑ, ΣΤΟΥΓ
	ΙΟΣ ΘΟΔΩΡΗΣ, ΦΟΥΝΤΟΥΚΟΣ ΓΙΩΡΓΟΣ, ΜΙΧΑΛΗΣ ΔΑΡΜΑΣ<br><br>Πέμπτη 23 Απριλίου 
	 και ώρα 21.30  υποδεχόμαστε τέσσερεις   εξαιρετικούς μουσικούς - την Ανατ
	ολή Μαργιόλα στο τραγούδι, τον  Θοδωρή Στούγιο στο μπουζούκι και το τραγού
	δι,  τον Γιώργο Φουντούκο στην κιθάρα  και τον Μιχάλη Δάρμα στο μπάσο.<br>
	<br>έναρξη  21.30<br>Είσοδος: 5,00 ευρώ/άτομο.<br>Κρατήσεις: 210-4444030<b
	r>«Πέραν, το καφέ αμάν της πόλης»<br>Λεωφόρος Δεκελείας 20<br>Νέα Φιλαδέλφ
	εια<br><a href="http://www.peran.gr" target="_blank">http://www.peran.gr</
	a><br><p>Organisé par <a href="https://www.facebook.com/Perankafeaman">ΠΕΡ
	ΑΝ το καφέ αμάν της πόλης - αυθεντική σελίδα</a></p>
BEGIN:VALARM
ACTION:DISPLAY
DESCRIPTION:ΡΕΜΠΕΤΙΚΟ ΚΟΥΑΡΤΕΤΟ
TRIGGER:-PT1H
END:VALARM
END:VEVENT
END:VCALENDAR
