BEGIN:VCALENDAR
VERSION:2.0
CALSCALE:GREGORIAN
PRODID:adamgibbons/ics
METHOD:PUBLISH
X-PUBLISHED-TTL:PT1H
BEGIN:VEVENT
UID:10360@events.aptaliko.gr
SUMMARY:Σωτήρης Νικολακόπουλος\, Βασίλης Κλάδης στη Δραπετσώνα
DTSTAMP:20260420T030837Z
DTSTART:20131013T110000Z
DTEND:20131013T110000Z
DESCRIPTION:Σωτήρης Νικολακόπουλος - μπουζούκι\, φωνή Βασίλης Κλάδης - κιθά
	ρα\, φωνή Τηλ. 210\n4613209
URL:https://events.aptaliko.gr/event/swthrhs-nikolakopoylos-basilhs-kladhs-
	sth-drapetswna-3
LOCATION:"Η ταβέρνα του Κουτσόγιαννου" Αγ. Παντελεήμονος 15 - Δραπετσώνα
STATUS:CONFIRMED
CATEGORIES:
X-ALT-DESC;FMTTYPE=text/html:Σωτήρης Νικολακόπουλος - μπουζούκι, φωνή<br>Βα
	σίλης Κλάδης - κιθάρα, φωνή<br><br><br>Τηλ. 210 4613209
BEGIN:VALARM
ACTION:DISPLAY
DESCRIPTION:Σωτήρης Νικολακόπουλος, Βασίλης Κλάδης στη Δραπετσώνα
TRIGGER:-PT1H
END:VALARM
END:VEVENT
END:VCALENDAR
