BEGIN:VCALENDAR
VERSION:2.0
CALSCALE:GREGORIAN
PRODID:adamgibbons/ics
METHOD:PUBLISH
X-PUBLISHED-TTL:PT1H
BEGIN:VEVENT
UID:1175117@events.aptaliko.gr
SUMMARY:ΣΥΡΑ\, ΤΡΙΚΑΛΑ\, ΠΕΡΑΙΑΣ / ΑΝΤΩΝΗΣ ΑΙΝΙΤΗΣ
DTSTAMP:20260419T225019Z
DTSTART:20260424T193000Z
DTEND:20260425T000000Z
DESCRIPTION:ΣΥΡΑ\, ΤΡΙΚΑΛΑ\, ΠΕΡΑΙΑΣ\n\nΠαρασκευές 17 & 24 Απριλίου και ώρα
	 22:30\, μια μουσική παρέα που έχει γράψει τη\nδική της ιστορία στα μουσικ
	ά δρώμενα\, φιλοξενείται στο πάλκο του Πέραν. Αντώνης\nΑινίτης μπουζούκι\,
	 τραγούδι και επιμέλεια του προγράμματος\, Ανθούλα Μίχου\nτραγούδι\, Θοδωρ
	ής Πετρόπουλος μπουζούκι και τραγούδι και Δημήτρης Κουκουλιτάκης\nκιθάρα κ
	αι φωνή.\n\nεπιβάρυνση θεάματος 5 ευρώ\nκρατήσεις 210 4444030\nΛ.Δεκελείας
	 20\, Ν. Φιλαδέλφεια\n\n\nOrganisé par ΠΕΡΑΝ το καφέ αμάν της πόλης - αυθε
	ντική σελίδα\n[https://www.facebook.com/Perankafeaman]
URL:https://events.aptaliko.gr/event/syra-trikala-peraias-antwnhs-ainiths
GEO:38.028408575008;23.733720779419
LOCATION:ΠΕΡΑΝ το καφέ αμάν της πόλης - αυθεντική σελίδα - Λ.Δεκελείας 20  
	Ν.Χαλκηδόνα\, Athens\, Greece
STATUS:CONFIRMED
CATEGORIES:
X-ALT-DESC;FMTTYPE=text/html:ΣΥΡΑ, ΤΡΙΚΑΛΑ, ΠΕΡΑΙΑΣ<br><br>Παρασκευές 17 &a
	mp; 24 Απριλίου και ώρα 22:30, μια μουσική παρέα που έχει γράψει τη δική τ
	ης ιστορία στα μουσικά δρώμενα, φιλοξενείται στο πάλκο του Πέραν.  Αντώνης
	 Αινίτης  μπουζούκι, τραγούδι και επιμέλεια του προγράμματος, Ανθούλα Μίχο
	υ τραγούδι, Θοδωρής Πετρόπουλος μπουζούκι και τραγούδι και Δημήτρης Κουκου
	λιτάκης κιθάρα και φωνή.<br><br>επιβάρυνση θεάματος 5 ευρώ<br>κρατήσεις 21
	0 4444030<br>Λ.Δεκελείας 20, Ν. Φιλαδέλφεια<br><p>Organisé par <a href="ht
	tps://www.facebook.com/Perankafeaman">ΠΕΡΑΝ το καφέ αμάν της πόλης - αυθεν
	τική σελίδα</a></p>
BEGIN:VALARM
ACTION:DISPLAY
DESCRIPTION:ΣΥΡΑ, ΤΡΙΚΑΛΑ, ΠΕΡΑΙΑΣ / ΑΝΤΩΝΗΣ ΑΙΝΙΤΗΣ
TRIGGER:-PT1H
END:VALARM
END:VEVENT
END:VCALENDAR
