BEGIN:VCALENDAR
VERSION:2.0
CALSCALE:GREGORIAN
PRODID:adamgibbons/ics
METHOD:PUBLISH
X-PUBLISHED-TTL:PT1H
BEGIN:VEVENT
UID:156970@events.aptaliko.gr
SUMMARY:Τατασόπουλος - Μερμηγκας - Κουέλης στο ArtTeo
DTSTAMP:20260423T094953Z
DTSTART:20230511T190000Z
DTEND:20230511T190000Z
DESCRIPTION:Νίκος Τατασόπουλος - μπουζούκι Θοδωρής Μέρμηγκας - κιθαρα Θεόδω
	ρος Κουέλης -\nκοντραμπάσο
URL:https://events.aptaliko.gr/event/tatasopoylos-mermhgkas-koyelhs-sto-art
	teo-30
LOCATION:arTeo music bar - Εμμανουήλ Μπενάκη 42\, Αθήνα 106 78\, Ελλάδα
STATUS:CONFIRMED
CATEGORIES:
X-ALT-DESC;FMTTYPE=text/html:Νίκος Τατασόπουλος - μπουζούκι<br>Θοδωρής Μέρμ
	ηγκας - κιθαρα <br>Θεόδωρος Κουέλης - κοντραμπάσο
BEGIN:VALARM
ACTION:DISPLAY
DESCRIPTION:Τατασόπουλος - Μερμηγκας - Κουέλης στο ArtTeo
TRIGGER:-PT1H
END:VALARM
END:VEVENT
END:VCALENDAR
