BEGIN:VCALENDAR
VERSION:2.0
CALSCALE:GREGORIAN
PRODID:adamgibbons/ics
METHOD:PUBLISH
X-PUBLISHED-TTL:PT1H
BEGIN:VEVENT
UID:1219975@events.aptaliko.gr
SUMMARY:Τσικνοπέμπτη: Νατσούλης - Μπαίλη - Σταθόπουλος στο Ραμόν
DTSTAMP:20260422T192019Z
DTSTART:20220224T173000Z
DTEND:20220224T173000Z
DESCRIPTION:Τάσος Νατσούλης (μπουζούκι- φωνή) Ελένη Μπαϊλη (ακορντεόν - φων
	ή) Αποστόλης\nΣταθόπουλος (κιθάρα- φωνή) Συμμετοχή 3\,00 ευρώ
URL:https://events.aptaliko.gr/event/tsiknopempth-natsoylhs-mpailh-sta8opoy
	los-sto-ramon-196
LOCATION:Ραμόν - Σπύρου Μερκούρη 22Α\, Αθήνα 116 34\, Ελλάδα
STATUS:CONFIRMED
CATEGORIES:
X-ALT-DESC;FMTTYPE=text/html:Τάσος Νατσούλης (μπουζούκι- φωνή) <br>Ελένη Μπ
	αϊλη (ακορντεόν - φωνή)<br>Αποστόλης Σταθόπουλος (κιθάρα- φωνή)<br><br>Συμ
	μετοχή 3,00 ευρώ
BEGIN:VALARM
ACTION:DISPLAY
DESCRIPTION:Τσικνοπέμπτη: Νατσούλης - Μπαίλη - Σταθόπουλος στο Ραμόν
TRIGGER:-PT1H
END:VALARM
END:VEVENT
END:VCALENDAR
