BEGIN:VCALENDAR
VERSION:2.0
CALSCALE:GREGORIAN
PRODID:adamgibbons/ics
METHOD:PUBLISH
X-PUBLISHED-TTL:PT1H
BEGIN:VEVENT
UID:1173028@events.aptaliko.gr
SUMMARY:Χριστοφιλόπουλος - Μήτσης 
DTSTAMP:20260423T001817Z
DTSTART:20220220T180000Z
DTEND:20220220T180000Z
DESCRIPTION:Ο Παύλος στο μπουζούκι και ο Βαγγέλης στην κιθάρα επιστρέφουν τ
	ις Κυριακές στη\nΤσουλήθρα στο εξωτικό Μεταξουργείο για ρεμπέτικο παλιό λα
	ϊκό στις 8!
URL:https://events.aptaliko.gr/event/xristofilopoylos-mhtshs-150
LOCATION:Τσουλήθρα - Σαλαμίνος 64\, Αθήνα 104 35\, Ελλάδα
STATUS:CONFIRMED
CATEGORIES:
X-ALT-DESC;FMTTYPE=text/html:Ο Παύλος στο μπουζούκι και ο Βαγγέλης στην κιθ
	άρα επιστρέφουν τις Κυριακές στη Τσουλήθρα στο εξωτικό Μεταξουργείο για ρε
	μπέτικο παλιό λαϊκό στις 8!
BEGIN:VALARM
ACTION:DISPLAY
DESCRIPTION:Χριστοφιλόπουλος - Μήτσης 
TRIGGER:-PT1H
END:VALARM
END:VEVENT
END:VCALENDAR
