BEGIN:VCALENDAR
VERSION:2.0
CALSCALE:GREGORIAN
PRODID:adamgibbons/ics
METHOD:PUBLISH
X-PUBLISHED-TTL:PT1H
BEGIN:VEVENT
UID:3@events.aptaliko.gr
SUMMARY:Ρεμπέτικο Τρίο - Σαββάτα στο Αλαργινό
DTSTAMP:20260419T151401Z
DTSTART:20260418T213000Z
DTEND:20260418T223000Z
DESCRIPTION:κρατήσεις στο 2104910770 ΡΕΜΠΕΤΙΚΟ ΤΡΙΟ: ΣΚΟΥΤΑΣ-ΜΗΤΑΡΑΚΗΣ-ΖΑΡΙ
	ΑΣΟ Βασίλης\nΣκούτας (τρίχορδο μπουζούκι\, τραγούδι)\, ο Δημήτρης Μηταράκη
	ς (κιθάρα\, τραγούδι)\nκαι ο Γιάννης Ζαρίας (βιολί\, μπαγλαμάς) γνωρίστηκα
	ν εδώ και πολλά χρόνια\nπαίζοντας μαζί σε διάφορα σχήματα σε μουσικούς χώρ
	ους της Αθήνας. Ως τρίο το\nδιασκεδάζουν ιδιαίτερα παίζοντας τα αγαπημένα 
	τους ρεμπέτικα και σμυρναίικα\,\nπροσπαθώντας να αξιοποιήσουν στο μέγιστο 
	τις παικτικές και φωνητικές τους\nικανότητες. Αγαπημένοι συνθέτες πολλοί… 
	Σκαρβέλης\, Καρίπης\, Τούντας\, Περιστέρης\,\nΜάρκος\, Τσιτσάνης\, Χατζηχρ
	ήστος αλλά και Τζουανάκος και πάει λέγοντας. Οι\nεκτελέσεις των κομματιών 
	πολλές φορές ξεφεύγουν από την απλή αναπαραγωγή της\nπρώτης εκτελέσεως\, μ
	ε διάφορα αρμονικά\, ρυθμικά πειράγματα και αυτοσχεδιασμούς\nανάλογα με τη
	 διάθεση\, με σεβασμό όμως πάντοτε στο χρώμα Εδώ η βίντεο-playlist\nτου σχ
	ήματος: https://bit.ly/2OiMIyC και το άλμπουμ του στο\nspotify:https://ope
	n.spotify.com/album/45kopXyNEDmlOJCrQ56lIh?si=UdgGx98sRKufr7OrgAn_Rg
URL:https://events.aptaliko.gr/event/rempetiko-trio-sabbata-sto-alargino
LOCATION:Αλαργινό στη Νίκαια - Αλαργινό στη Νίκαια
STATUS:CONFIRMED
CATEGORIES:
X-ALT-DESC;FMTTYPE=text/html:κρατήσεις στο 2104910770<br><br>ΡΕΜΠΕΤΙΚΟ ΤΡΙΟ
	: ΣΚΟΥΤΑΣ-ΜΗΤΑΡΑΚΗΣ-ΖΑΡΙΑΣΟ Βασίλης Σκούτας (τρίχορδο μπουζούκι, τραγούδι)
	, ο Δημήτρης Μηταράκης (κιθάρα, τραγούδι) και ο Γιάννης Ζαρίας (βιολί, μπα
	γλαμάς) γνωρίστηκαν εδώ και πολλά χρόνια παίζοντας μαζί σε διάφορα σχήματα
	 σε μουσικούς χώρους της Αθήνας. Ως τρίο το διασκεδάζουν ιδιαίτερα παίζοντ
	ας τα αγαπημένα τους ρεμπέτικα και σμυρναίικα, προσπαθώντας να αξιοποιήσου
	ν στο μέγιστο τις παικτικές και φωνητικές τους ικανότητες. Αγαπημένοι συνθ
	έτες πολλοί… Σκαρβέλης, Καρίπης, Τούντας, Περιστέρης, Μάρκος, Τσιτσάνης, Χ
	ατζηχρήστος αλλά και Τζουανάκος και πάει λέγοντας. Οι εκτελέσεις των κομμα
	τιών πολλές φορές ξεφεύγουν από την απλή αναπαραγωγή της πρώτης εκτελέσεως
	, με διάφορα αρμονικά, ρυθμικά πειράγματα και αυτοσχεδιασμούς ανάλογα με τ
	η διάθεση, με σεβασμό όμως πάντοτε στο χρώμα<br><br>Εδώ η βίντεο-playlist 
	του σχήματος: https://bit.ly/2OiMIyC<br><br>και το άλμπουμ του στο spotify
	:https://open.spotify.com/album/45kopXyNEDmlOJCrQ56lIh?si=UdgGx98sRKufr7Or
	gAn_Rg<br><br>
END:VEVENT
BEGIN:VEVENT
UID:1108899@events.aptaliko.gr
SUMMARY:Parea Jam
DTSTAMP:20260419T151401Z
DTSTART:20260420T033000Z
DTEND:20260420T060000Z
DESCRIPTION:🤝Paréa JAM Sessions\n\nΠαίζεις όργανο ή/και τραγουδάς\; Σου αρέ
	σει πολύ και κάθεσαι με τις ώρες\; Νιώθεις\nότι βρίσκεις τον εαυτό σου και
	 ξεχνάς τα προβλήματα της μέρας αλλά νιώθεις\nμοναξιά\; Θέλεις να παίξεις 
	μαζί με μια ομάδα\, να μάθεις περισσότερα για τα\nτραγούδια\, πληροφορίες 
	για τα όργανα\, την ιστορία και τους ανθρώπους που\n«έχτισαν» το αγαπημένο
	 μας ρεπερτόριο\; Θέλεις να μάθεις να αυτοσχεδιάζεις\nπερισσότερο πάνω στο
	υς λαϊκούς δρόμους και να μάθεις περισσότερα για αυτό\;\nΘέλεις απλώς να γ
	νωρίσεις κι άλλα άτομα που μοιράζονται την ίδια αγάπη και τρέλα\nγια την ε
	λληνόφωνη μουσική της ανατολικής Μεσογείου\; Τότε αυτή η ομάδα είναι για\n
	σένα! Έλα να γνωριστούμε και να μάθουμε τζαμάροντας!\n\n*οι συναντήσεις θα
	 γίνονται στο κέντρο της αθηνας\, θα είναι τρίωρες και η μέρα\nθα καθοριστ
	εί σύμφωνα με τις δυνατότητες των συμμετεχοντων.\n\nΠαίχτε γιατί χανόμαστε
	🤘
URL:https://events.aptaliko.gr/event/parea-jam-3
LOCATION:Saloni Aptaliko - Κωλέττη 9\, 10861 Αθήνα
STATUS:CONFIRMED
CATEGORIES:Aptaliko,jam,saloni
X-ALT-DESC;FMTTYPE=text/html:<p>🤝Paréa JAM Sessions</p><p>Παίζεις όργανο ή/
	και τραγουδάς; Σου αρέσει πολύ και κάθεσαι με τις ώρες; Νιώθεις ότι βρίσκε
	ις τον εαυτό σου και ξεχνάς τα προβλήματα της μέρας αλλά νιώθεις μοναξιά; 
	Θέλεις να παίξεις μαζί με μια ομάδα, να μάθεις περισσότερα για τα τραγούδι
	α, πληροφορίες για τα όργανα, την ιστορία και τους ανθρώπους που «έχτισαν»
	 το αγαπημένο μας ρεπερτόριο; Θέλεις να μάθεις να αυτοσχεδιάζεις  περισσότ
	ερο πάνω στους λαϊκούς δρόμους και να μάθεις περισσότερα για αυτό; Θέλεις 
	απλώς να γνωρίσεις κι άλλα άτομα που μοιράζονται την ίδια αγάπη και τρέλα 
	για την ελληνόφωνη μουσική της ανατολικής Μεσογείου; Τότε αυτή η ομάδα είν
	αι για σένα! Έλα να γνωριστούμε και να μάθουμε τζαμάροντας!</p><p>*οι συνα
	ντήσεις θα γίνονται στο κέντρο της αθηνας, θα είναι τρίωρες και η μέρα θα 
	καθοριστεί σύμφωνα με τις δυνατότητες των συμμετεχοντων.</p><p>Παίχτε γιατ
	ί χανόμαστε🤘</p>
END:VEVENT
END:VCALENDAR
