BEGIN:VCALENDAR
VERSION:2.0
CALSCALE:GREGORIAN
PRODID:adamgibbons/ics
METHOD:PUBLISH
X-PUBLISHED-TTL:PT1H
BEGIN:VEVENT
UID:953703@events.aptaliko.gr
SUMMARY:Ο Ψαθάς με την παρέα του\, στο Πέραν
DTSTAMP:20260419T181939Z
DTSTART:20260426T113000Z
URL:https://events.aptaliko.gr/event/o-psa8as-me-thn-parea-toy-sto-peran-1
GEO:38.028408575008;23.733720779419
LOCATION:ΠΕΡΑΝ το καφέ αμάν της πόλης - αυθεντική σελίδα - Λ.Δεκελείας 20  
	Ν.Χαλκηδόνα\, Athènes\, Grèce
STATUS:CONFIRMED
CATEGORIES:
END:VEVENT
END:VCALENDAR
